BEGIN:VCALENDAR
VERSION:2.0
PRODID:-//Pitch en Putt Bond Nederland - PPBN - ECPv6.15.20//NONSGML v1.0//EN
CALSCALE:GREGORIAN
METHOD:PUBLISH
X-WR-CALNAME:Pitch en Putt Bond Nederland - PPBN
X-ORIGINAL-URL:https://www.ppbn.nl
X-WR-CALDESC:Evenementen voor Pitch en Putt Bond Nederland - PPBN
REFRESH-INTERVAL;VALUE=DURATION:PT1H
X-Robots-Tag:noindex
X-PUBLISHED-TTL:PT1H
BEGIN:VTIMEZONE
TZID:Europe/Amsterdam
BEGIN:DAYLIGHT
TZOFFSETFROM:+0100
TZOFFSETTO:+0200
TZNAME:CEST
DTSTART:20240331T010000
END:DAYLIGHT
BEGIN:STANDARD
TZOFFSETFROM:+0200
TZOFFSETTO:+0100
TZNAME:CET
DTSTART:20241027T010000
END:STANDARD
BEGIN:DAYLIGHT
TZOFFSETFROM:+0100
TZOFFSETTO:+0200
TZNAME:CEST
DTSTART:20250330T010000
END:DAYLIGHT
BEGIN:STANDARD
TZOFFSETFROM:+0200
TZOFFSETTO:+0100
TZNAME:CET
DTSTART:20251026T010000
END:STANDARD
BEGIN:DAYLIGHT
TZOFFSETFROM:+0100
TZOFFSETTO:+0200
TZNAME:CEST
DTSTART:20260329T010000
END:DAYLIGHT
BEGIN:STANDARD
TZOFFSETFROM:+0200
TZOFFSETTO:+0100
TZNAME:CET
DTSTART:20261025T010000
END:STANDARD
BEGIN:DAYLIGHT
TZOFFSETFROM:+0100
TZOFFSETTO:+0200
TZNAME:CEST
DTSTART:20270328T010000
END:DAYLIGHT
BEGIN:STANDARD
TZOFFSETFROM:+0200
TZOFFSETTO:+0100
TZNAME:CET
DTSTART:20271031T010000
END:STANDARD
END:VTIMEZONE
BEGIN:VEVENT
DTSTART;VALUE=DATE:20251101
DTEND;VALUE=DATE:20251102
DTSTAMP:20260426T045953
CREATED:20251005T085721Z
LAST-MODIFIED:20251005T085923Z
UID:10000411-1761955200-1762041599@www.ppbn.nl
SUMMARY:Mossel Toernooi Groningen
DESCRIPTION:
URL:https://www.ppbn.nl/aankomende-evenementen/mossel-toernooi/
ORGANIZER;CN="PPBN":MAILTO:bondsbureau@ppbn.nl
END:VEVENT
BEGIN:VEVENT
DTSTART;VALUE=DATE:20251123
DTEND;VALUE=DATE:20251124
DTSTAMP:20260426T045953
CREATED:20251002T135107Z
LAST-MODIFIED:20251002T135107Z
UID:10000410-1763856000-1763942399@www.ppbn.nl
SUMMARY:ALV & 36 holes Eclectic wedstrijd
DESCRIPTION:Uitnodiging ALV & 36 holes Eclectic wedstrijd \nBeste leden\, \nGraag nodigen wij jullie uit voor een bijzondere dag op Strand Horst: een combinatie van sportieve uitdaging en betrokkenheid bij de Pitch en Putt Bond Nederland. Op zondag 23 november 2025 organiseren we een 2 x 18 holes wedstrijd met tussendoor een gezellige lunch en onze jaarlijkse Algemene Ledenvergadering (ALV). \n📅 Programma van de dag \n\n10:00 uur – Ontvangst met koffie/thee\n10:30 uur – Start eerste 18 holes\n±12:00 uur – Lunch\n±12:30 uur – Algemene Ledenvergadering\n±14:00 uur – Tweede 18 holes\n±16:00 uur – Afsluiting met prijsuitreiking en borrel\n\n💶 Kosten deelname \n\n€ 12\,50 voor volledige PPBN-leden\n€ 20\,00 voor spelers met alleen handicapregistratie\n\nSpelvorm Eclectic \nDe wedstrijd zal worden gespeeld in de spelvorm Eclectic. Tijdens de 1e ronde probeer je een zo goed mogelijk score neer te zetten\, een slechte hole erbij? Geen probleem! Tijdens de 2e ronde krijg je namelijk de kans om je scores per hole van de 1e ronde te verbeteren. Je beste score per hole telt uiteindelijk mee voor de einduitslag. Er is een prijs voor zowel de nummer 1 Bruto als Netto. \n🗳️ Algemene Ledenvergadering \nAansluitend op de lunchpauze vindt de ALV plaats. De agenda is als bijlage toegevoegd. Heb je een vraag of onderwerp dat je graag besproken ziet? Stuur deze dan uiterlijk 31 oktober naar bondsbureau@ppbn.nl \nInschrijven voor het ALV-toernooi is mogelijk via de spelersapp>Aankomende evenementen> Eclectic ALV Bondstoernooi. \nWil je de ALV bijwonen maar niet deelnemen aan het toernooi\, dit kan uiteraard ook! Graag dan ook even een mail sturen naar bondsbureau@ppbn.nl met de opmerking erbij dat je alleen de ALV wil bijwonen. \nBelangrijk om te melden is dat zowel Volledige leden als HCP-registratieleden de ALV mogen bijwonen\, alleen volledige leden hebben stemrecht. \nWe hopen op een grote opkomst en een sportieve\, gezellige en betrokken dag met elkaar! \nMet vriendelijke groet\, \nHet bestuur van de Pitch en Putt Bond Nederland
URL:https://www.ppbn.nl/aankomende-evenementen/alv-36-holes-eclectic-wedstrijd/
LOCATION:Pitch & Putt Strand Horst\, Palmbosweg 4\, Ermelo\, 3853 LB\, Nederland
CATEGORIES:Bondsactiviteit
ATTACH;FMTTYPE=image/jpeg:https://www.ppbn.nl/wp-content/uploads/2019/04/logoPP_2018_Strand_Horst.jpg
ORGANIZER;CN="PPBN":MAILTO:bondsbureau@ppbn.nl
GEO:52.2927489;5.5491352
X-APPLE-STRUCTURED-LOCATION;VALUE=URI;X-ADDRESS=Pitch & Putt Strand Horst Palmbosweg 4 Ermelo 3853 LB Nederland;X-APPLE-RADIUS=500;X-TITLE=Palmbosweg 4:geo:5.5491352,52.2927489
END:VEVENT
BEGIN:VEVENT
DTSTART;TZID=Europe/Amsterdam:20251213T160000
DTEND;TZID=Europe/Amsterdam:20251213T200000
DTSTAMP:20260426T045953
CREATED:20251015T151942Z
LAST-MODIFIED:20251015T152143Z
UID:10000412-1765641600-1765656000@www.ppbn.nl
SUMMARY:MoonLight Toernooi Papendal
DESCRIPTION:
URL:https://www.ppbn.nl/aankomende-evenementen/moonlight-toernooi-papendal/
ORGANIZER;CN="Pitch & Putt Papendal":MAILTO:papendal@pitch-putt.nl
END:VEVENT
BEGIN:VEVENT
DTSTART;TZID=Europe/Amsterdam:20260307T083000
DTEND;TZID=Europe/Amsterdam:20260307T170000
DTSTAMP:20260426T045953
CREATED:20251030T183704Z
LAST-MODIFIED:20251030T183816Z
UID:10000413-1772872200-1772902800@www.ppbn.nl
SUMMARY:Oost-Nederlands(open) Kampioenschap Pitch & Putt Lemele
DESCRIPTION:Oost-Nederlands (Open) Kampioenschap\nZaterdag 7 maart 2026 – Pitch & Putt Lemele \nOp zaterdag 7 maart 2026 organiseert Pitch & Putt Lemele het Oost-Nederlands Kampioenschap.Dit toernooi is open voor zowel golfers als Pitch & Putt-spelers en wordt gespeeld volgens de PPBN-regels.Pitch & Putt wordt gespeeld met maximaal twee clubs en een putter. \nProgramma\n\n\n08:30 – 09:15 Inschrijving \n\n\n09:15 – 09:30 Briefing \n\n\n09:30 – 12:45 Start van de 1e en 2e ronde (worden achter elkaar gespeeld in dezelfde flight) \n\n\n12:45 – 13:45 Heerlijke winterlunch \n\n\n13:45 – 15:45 Start van de 3e ronde (op basis van de ranking na de 1e en 2e ronde) \n\n\n16:00 Prijsuitreiking en borrel \n\n\nInformatie\n\n\nKosten: €29\,50 per persoon (inclusief drie rondes) \n\n\nMaximum aantal deelnemers: 72 \n\n\nInschrijving geopend per direct \n\n\nInschrijven via: onklemele@gmail.com \n\n\nBij inschrijving graag vermelden:Naam / HCP / e-mailadres / categorie (senior – dames – heren) \nLet op: inschrijving sluit op maandag 3 maart 2026 om 23:59 uur. \nLocatie:Pitch & Putt LemeleLage Esweg 58141 RA LemeleTel. 0572 – 331 413
URL:https://www.ppbn.nl/aankomende-evenementen/oost-nederlandsopen-kampioenschap/
LOCATION:Pitch & Putt Lemele\, Lage Esweg 5\, Lemele\, 8148 RA\, Nederland
ORGANIZER;CN="PPBN":MAILTO:bondsbureau@ppbn.nl
GEO:52.4532898;6.4112728
X-APPLE-STRUCTURED-LOCATION;VALUE=URI;X-ADDRESS=Pitch & Putt Lemele Lage Esweg 5 Lemele 8148 RA Nederland;X-APPLE-RADIUS=500;X-TITLE=Lage Esweg 5:geo:6.4112728,52.4532898
END:VEVENT
BEGIN:VEVENT
DTSTART;TZID=Europe/Amsterdam:20260315T090000
DTEND;TZID=Europe/Amsterdam:20260315T170000
DTSTAMP:20260426T045953
CREATED:20260113T210645Z
LAST-MODIFIED:20260313T121837Z
UID:10000434-1773565200-1773594000@www.ppbn.nl
SUMMARY:NK Teams 2026 Diepenheim
DESCRIPTION:
URL:https://www.ppbn.nl/aankomende-evenementen/nk-teams/
LOCATION:Pitch & Putt Diepenheim\, Hengevelderweg 3\, Diepenheim\, 7478 PE\, Nederland
CATEGORIES:Bondstoernooien
ATTACH;FMTTYPE=image/png:https://www.ppbn.nl/wp-content/uploads/2026/01/nk-teams.png
ORGANIZER;CN="PPBN":MAILTO:bondsbureau@ppbn.nl
GEO:52.1965091;6.5920072
X-APPLE-STRUCTURED-LOCATION;VALUE=URI;X-ADDRESS=Pitch & Putt Diepenheim Hengevelderweg 3 Diepenheim 7478 PE Nederland;X-APPLE-RADIUS=500;X-TITLE=Hengevelderweg 3:geo:6.5920072,52.1965091
END:VEVENT
BEGIN:VEVENT
DTSTART;TZID=Europe/Amsterdam:20260326T093000
DTEND;TZID=Europe/Amsterdam:20260326T150000
DTSTAMP:20260426T045953
CREATED:20251222T213132Z
LAST-MODIFIED:20251222T214247Z
UID:10000425-1774517400-1774537200@www.ppbn.nl
SUMMARY:Seniorencircuit 2026
DESCRIPTION:
URL:https://www.ppbn.nl/aankomende-evenementen/seniorencircuit-2026/2026-03-26/
ATTACH;FMTTYPE=image/png:https://www.ppbn.nl/wp-content/uploads/2025/12/SeriorenCircuit.png
ORGANIZER;CN="Steven/Mischa":MAILTO:seniorencircuit@gmail.com
END:VEVENT
BEGIN:VEVENT
DTSTART;TZID=Europe/Amsterdam:20260328T090000
DTEND;TZID=Europe/Amsterdam:20260328T170000
DTSTAMP:20260426T045953
CREATED:20260113T210848Z
LAST-MODIFIED:20260119T155732Z
UID:10000435-1774688400-1774717200@www.ppbn.nl
SUMMARY:NRT1 Koudum 2026
DESCRIPTION:
URL:https://www.ppbn.nl/aankomende-evenementen/nrt-1/
LOCATION:Pitch & Putt Koudum\, Nieuweweg 42\, Koudum\, 8723 EB\, Nederland
CATEGORIES:Bondstoernooien
ATTACH;FMTTYPE=image/png:https://www.ppbn.nl/wp-content/uploads/2026/01/A955ED32-CE38-4B7A-B34B-FEC9B9F1C523.png
ORGANIZER;CN="PPBN":MAILTO:bondsbureau@ppbn.nl
GEO:52.9195475;5.4612189
X-APPLE-STRUCTURED-LOCATION;VALUE=URI;X-ADDRESS=Pitch & Putt Koudum Nieuweweg 42 Koudum 8723 EB Nederland;X-APPLE-RADIUS=500;X-TITLE=Nieuweweg 42:geo:5.4612189,52.9195475
END:VEVENT
BEGIN:VEVENT
DTSTART;VALUE=DATE:20260410
DTEND;VALUE=DATE:20260413
DTSTAMP:20260426T045953
CREATED:20241213T163125Z
LAST-MODIFIED:20260219T191618Z
UID:10000380-1775779200-1776038399@www.ppbn.nl
SUMMARY:Catalaans Open 2026
DESCRIPTION:Van 10-04-2026 t/m 12-04-2026 wordt op P&P Vallromanes  het Catalaans open 2026 gespeeld. Vanaf heden t/m dinsdag 03-03-2026 23:59 uur is de inschrijving geopend. Op 4 Maart zullen wij de inschrijving voltooien bij de Catalaanse bond.  \n\n\n\nNa overleg met de Catalaanse bond heeft de PPBN heeft vooralsnog 20 plekken toegewezen gekregen. De eerste 20 inschrijvingen zijn dus zeker van deelname. Indien er meer inschrijvingen zijn\, gaat de PPBN in overleg met de wedstrijdorganisatie\, met het verzoek om meer plekken toegewezen te krijgen. Belangrijke extra informatie is dat betaling via de PPBN verloopt\, zodat spelers zich niet dubbel in te hoeven schrijven. De betaling kan worden voldaan via onderstaande link. \nhttps://payment-links.mollie.com/payment/X6YynnbfZCTNqfjW8aXoW \n\nInschrijfformulier\n\n	Bericht: JavaScript is vereist voor deze inhoud.\n\n\n    \n\n\n        \n        \n        \nInschrijflijst\nNrNaam / NameCategorie / Category1Jorrit van der wegHeren / Gents2Bo SingerlingHeren / Gents3Remon de Groot Heren / Gents4Marcel AhuisHeren / Gents5Esther de SchiffartDames / Ladies6Maurits RangkouwHeren / Gents7Bas HeussenSenioren / Over 55's8Kim Kuijsters Dames / Ladies9Marcel Ho-Sam-SooiHeren / Gents10Frans VorkSenioren / Over 55's11Tim LetteboerHeren / Gents12Steven HissinkHeren / Gents13Bert HermsSenioren / Over 55's14Remco WilderinkHeren / Gents15René Groot RoessinkHeren / Gents16Berrie BerendsSenioren / Over 55's17Joseph VerheggenHeren / Gents\nPraktische informatie\nhttps://fippa.org/uploads/news/files/XIXOPEN_CATALONIA_INTERNATIONAL_2026_english.pdf
URL:https://www.ppbn.nl/aankomende-evenementen/catalan-open-2026/
CATEGORIES:Fippa Toernooien
ATTACH;FMTTYPE=image/jpeg:https://www.ppbn.nl/wp-content/uploads/2024/12/CARTELL_OPEN_ANGLES_page-0001.jpg
ORGANIZER;CN="FIPPA":MAILTO:alloret@pitch.cat
END:VEVENT
BEGIN:VEVENT
DTSTART;TZID=Europe/Amsterdam:20260418T090000
DTEND;TZID=Europe/Amsterdam:20260418T170000
DTSTAMP:20260426T045953
CREATED:20260113T211059Z
LAST-MODIFIED:20260119T160044Z
UID:10000436-1776502800-1776531600@www.ppbn.nl
SUMMARY:NRT2 2026 't Lohr
DESCRIPTION:
URL:https://www.ppbn.nl/aankomende-evenementen/nrt-2/
LOCATION:Golfclub ’t Lohr\, Lohrpad 2\, Voorst (Oude IJsselstreek)\, 7083 AX\, Nederland
CATEGORIES:Bondstoernooien
ATTACH;FMTTYPE=image/png:https://www.ppbn.nl/wp-content/uploads/2026/01/A955ED32-CE38-4B7A-B34B-FEC9B9F1C523.png
ORGANIZER;CN="PPBN":MAILTO:bondsbureau@ppbn.nl
END:VEVENT
BEGIN:VEVENT
DTSTART;TZID=Europe/Amsterdam:20260423T093000
DTEND;TZID=Europe/Amsterdam:20260423T150000
DTSTAMP:20260426T045953
CREATED:20251222T213132Z
LAST-MODIFIED:20251222T214247Z
UID:10000426-1776936600-1776956400@www.ppbn.nl
SUMMARY:Seniorencircuit 2026
DESCRIPTION:
URL:https://www.ppbn.nl/aankomende-evenementen/seniorencircuit-2026/2026-04-23/
ATTACH;FMTTYPE=image/png:https://www.ppbn.nl/wp-content/uploads/2025/12/SeriorenCircuit.png
ORGANIZER;CN="Steven/Mischa":MAILTO:seniorencircuit@gmail.com
END:VEVENT
BEGIN:VEVENT
DTSTART;VALUE=DATE:20260424
DTEND;VALUE=DATE:20260427
DTSTAMP:20260426T045953
CREATED:20251124T164931Z
LAST-MODIFIED:20251124T164931Z
UID:10000424-1776988800-1777247999@www.ppbn.nl
SUMMARY:Gelders Open 2026
DESCRIPTION:
URL:https://www.ppbn.nl/aankomende-evenementen/gelders-open-2026/
LOCATION:Pitch & Putt Molenhoek\, Lierweg 2C\, Molenhoek\, 6584 DC\, Nederland
CATEGORIES:Baaninitiatieven
ATTACH;FMTTYPE=image/jpeg:https://www.ppbn.nl/wp-content/uploads/2025/11/Gelders-Open-2026.jpg
ORGANIZER;CN="Ed Janssen":MAILTO:edjejanssen@gmail.com
GEO:51.7755464;5.8749953
X-APPLE-STRUCTURED-LOCATION;VALUE=URI;X-ADDRESS=Pitch & Putt Molenhoek Lierweg 2C Molenhoek 6584 DC Nederland;X-APPLE-RADIUS=500;X-TITLE=Lierweg 2C:geo:5.8749953,51.7755464
END:VEVENT
BEGIN:VEVENT
DTSTART;TZID=Europe/Amsterdam:20260510T093000
DTEND;TZID=Europe/Amsterdam:20260510T180000
DTSTAMP:20260426T045953
CREATED:20251031T170546Z
LAST-MODIFIED:20251102T175125Z
UID:10000416-1778405400-1778436000@www.ppbn.nl
SUMMARY:Open Fries Texas Scramble Toernooi 2026
DESCRIPTION:Format\nTijdens het Open Fries Texas Scramble Toernooi speel je 3 ronden\, elk met een variatie op Texas Scramble. \n1e Ronde – Scramble\n\n\nAlle spelers slaan af. Daarna kiest het team de bal met de beste ligging; de overige ballen worden opgenomen. \n\n\nAlle spelers slaan om beurten hun volgende slag vanaf de gekozen bal. Steeds wordt opnieuw de beste bal gekozen\, totdat de bal in de hole ligt. \n\n\nMarkering dient te gebeuren met een marker. \n\n\n2de Ronde – Texas Scramble\n\n\nZelfde spelopzet als ronde 1 (Scramble). \n\n\nVan elke speler moet minimaal 4 keer (bij 4 spelers) of 5 keer (bij 3 spelers) de afslagbal gekozen worden. Dit moet op de scorekaart worden genoteerd. \n\n\nMarkering dient te gebeuren met een marker. \n\n\n3de Ronde – Ambrose\n\n\nZelfde spelopzet als Scramble. \n\n\nDe handicaps van alle spelers worden opgeteld en gedeeld door het aantal spelers; dit is de teamhandicap. \n\n\nDe handicap wordt verrekend met de totale score over 18 holes. \n\n\nMarkering dient te gebeuren met een marker. \n\n\n\nProgramma\n\n\n09.30 uur – Aanwezig \n\n\n10.00 uur – Start 1e ronde \n\n\nNa de 1e ronde – Lunch \n\n\n12.45 uur – Start 2e ronde \n\n\nNa de 2e ronde – Snack \n\n\n15.00 uur – Start 3e ronde \n\n\n17.30 uur – Prijsuitreiking \n\n\n\nKosten\n€ 35\,- per persoon
URL:https://www.ppbn.nl/aankomende-evenementen/open-fries-texas-scramble-toernooi-2026/
LOCATION:Het Buiten-Land\, Noarder Stienplaat 3\, Leeuwarden\, Friesland\, 8939 DA
ATTACH;FMTTYPE=image/jpeg:https://www.ppbn.nl/wp-content/uploads/2025/10/Logo-Texas-Scramble.jpg
ORGANIZER;CN="PPGZ":MAILTO:info@ppgz.nl
END:VEVENT
BEGIN:VEVENT
DTSTART;TZID=Europe/Amsterdam:20260516T090000
DTEND;TZID=Europe/Amsterdam:20260516T170000
DTSTAMP:20260426T045953
CREATED:20260113T211159Z
LAST-MODIFIED:20260119T160257Z
UID:10000437-1778922000-1778950800@www.ppbn.nl
SUMMARY:NRT3 2026 Oostwold
DESCRIPTION:
URL:https://www.ppbn.nl/aankomende-evenementen/nrt-3/
LOCATION:Pitch & Putt Oostwold\, Huningaweg 7\, Oostwold\, 9682 PA\, Nederland
CATEGORIES:Bondstoernooien
ATTACH;FMTTYPE=image/png:https://www.ppbn.nl/wp-content/uploads/2026/01/A955ED32-CE38-4B7A-B34B-FEC9B9F1C523.png
ORGANIZER;CN="PPBN":MAILTO:bondsbureau@ppbn.nl
GEO:53.2018197;7.0327527
X-APPLE-STRUCTURED-LOCATION;VALUE=URI;X-ADDRESS=Pitch & Putt Oostwold Huningaweg 7 Oostwold 9682 PA Nederland;X-APPLE-RADIUS=500;X-TITLE=Huningaweg 7:geo:7.0327527,53.2018197
END:VEVENT
BEGIN:VEVENT
DTSTART;TZID=Europe/Amsterdam:20260521T093000
DTEND;TZID=Europe/Amsterdam:20260521T150000
DTSTAMP:20260426T045953
CREATED:20251222T213132Z
LAST-MODIFIED:20251222T214247Z
UID:10000427-1779355800-1779375600@www.ppbn.nl
SUMMARY:Seniorencircuit 2026
DESCRIPTION:
URL:https://www.ppbn.nl/aankomende-evenementen/seniorencircuit-2026/2026-05-21/
ATTACH;FMTTYPE=image/png:https://www.ppbn.nl/wp-content/uploads/2025/12/SeriorenCircuit.png
ORGANIZER;CN="Steven/Mischa":MAILTO:seniorencircuit@gmail.com
END:VEVENT
BEGIN:VEVENT
DTSTART;TZID=Europe/Amsterdam:20260606T090000
DTEND;TZID=Europe/Amsterdam:20260606T170000
DTSTAMP:20260426T045953
CREATED:20260113T211246Z
LAST-MODIFIED:20260119T160018Z
UID:10000438-1780736400-1780765200@www.ppbn.nl
SUMMARY:NRT 4 2026 Papendal
DESCRIPTION:
URL:https://www.ppbn.nl/aankomende-evenementen/nrt-4/
LOCATION:Pitch & Putt Papendal\, Papendallaan 3\, Arnhem\, 6816 VD\, Nederland
CATEGORIES:Bondstoernooien
ATTACH;FMTTYPE=image/png:https://www.ppbn.nl/wp-content/uploads/2026/01/A955ED32-CE38-4B7A-B34B-FEC9B9F1C523.png
ORGANIZER;CN="PPBN":MAILTO:bondsbureau@ppbn.nl
END:VEVENT
BEGIN:VEVENT
DTSTART;VALUE=DATE:20260619
DTEND;VALUE=DATE:20260622
DTSTAMP:20260426T045953
CREATED:20251102T180634Z
LAST-MODIFIED:20251102T180634Z
UID:10000418-1781827200-1782086399@www.ppbn.nl
SUMMARY:World Pairs (Catalonië)
DESCRIPTION:Nadere info volgt
URL:https://www.ppbn.nl/aankomende-evenementen/world-pairs-catalonie/
END:VEVENT
BEGIN:VEVENT
DTSTART;TZID=Europe/Amsterdam:20260624T093000
DTEND;TZID=Europe/Amsterdam:20260624T150000
DTSTAMP:20260426T045953
CREATED:20251222T213132Z
LAST-MODIFIED:20251222T214247Z
UID:10000428-1782293400-1782313200@www.ppbn.nl
SUMMARY:Seniorencircuit 2026
DESCRIPTION:
URL:https://www.ppbn.nl/aankomende-evenementen/seniorencircuit-2026/2026-06-24/
ATTACH;FMTTYPE=image/png:https://www.ppbn.nl/wp-content/uploads/2025/12/SeriorenCircuit.png
ORGANIZER;CN="Steven/Mischa":MAILTO:seniorencircuit@gmail.com
END:VEVENT
BEGIN:VEVENT
DTSTART;TZID=Europe/Amsterdam:20260705T090000
DTEND;TZID=Europe/Amsterdam:20260705T170000
DTSTAMP:20260426T045953
CREATED:20260306T101453Z
LAST-MODIFIED:20260306T101453Z
UID:10000441-1783242000-1783270800@www.ppbn.nl
SUMMARY:NRT 5 Groningen 2026
DESCRIPTION:
URL:https://www.ppbn.nl/aankomende-evenementen/nrt5-groningen-2026/
LOCATION:Pitch & Putt Groningen\, Bieskemar 10\, Groningen\, 9735 AE\, Nederland
CATEGORIES:Bondstoernooien
ATTACH;FMTTYPE=image/png:https://www.ppbn.nl/wp-content/uploads/2026/01/A955ED32-CE38-4B7A-B34B-FEC9B9F1C523.png
ORGANIZER;CN="PPBN":MAILTO:bondsbureau@ppbn.nl
GEO:53.2409428;6.5965728
X-APPLE-STRUCTURED-LOCATION;VALUE=URI;X-ADDRESS=Pitch & Putt Groningen Bieskemar 10 Groningen 9735 AE Nederland;X-APPLE-RADIUS=500;X-TITLE=Bieskemar 10:geo:6.5965728,53.2409428
END:VEVENT
BEGIN:VEVENT
DTSTART;VALUE=DATE:20260711
DTEND;VALUE=DATE:20260713
DTSTAMP:20260426T045953
CREATED:20251102T180836Z
LAST-MODIFIED:20251102T180836Z
UID:10000419-1783728000-1783900799@www.ppbn.nl
SUMMARY:Iers Open
DESCRIPTION:Nadere informatie volgt
URL:https://www.ppbn.nl/aankomende-evenementen/iers-open/
ORGANIZER;CN="PPUI":MAILTO:office@ppui.ie
END:VEVENT
BEGIN:VEVENT
DTSTART;TZID=Europe/Amsterdam:20260723T093000
DTEND;TZID=Europe/Amsterdam:20260723T150000
DTSTAMP:20260426T045953
CREATED:20251222T213132Z
LAST-MODIFIED:20251222T214247Z
UID:10000429-1784799000-1784818800@www.ppbn.nl
SUMMARY:Seniorencircuit 2026
DESCRIPTION:
URL:https://www.ppbn.nl/aankomende-evenementen/seniorencircuit-2026/2026-07-23/
ATTACH;FMTTYPE=image/png:https://www.ppbn.nl/wp-content/uploads/2025/12/SeriorenCircuit.png
ORGANIZER;CN="Steven/Mischa":MAILTO:seniorencircuit@gmail.com
END:VEVENT
BEGIN:VEVENT
DTSTART;TZID=Europe/Amsterdam:20260814T080000
DTEND;TZID=Europe/Amsterdam:20260816T170000
DTSTAMP:20260426T045953
CREATED:20250713T085054Z
LAST-MODIFIED:20260417T113405Z
UID:10000409-1786694400-1786899600@www.ppbn.nl
SUMMARY:Dutch open 2026
DESCRIPTION:Van 14 t/m 16 augustus 2026 vormt Pitch & Putt Crayestein in Dordrecht het decor voor het Dutch Open Pitch & Putt. Gelegen aan de rand van de Hollandse Biesbosch staat deze locatie bekend om haar prachtige omgeving én de unieke bosachtige baan\, die spelers uitdaagt met variatie\, techniek en natuurbeleving in één. \nSinds 13 oktober 2025 beschikt Pitch & Putt Crayestein over een eigen baan en zet het zich direct op de kaart als veelbelovende locatie binnen de sport. Met deze toevoeging is het Dutch Open 2026 een mooie en logische volgende stap. \nEen internationaal deelnemersveld\, topsport in een groene omgeving en de gastvrijheid van Pitch & Putt Crayestein maken dit driedaagse evenement tot een hoogtepunt van de Pitch & Putt-kalender.
URL:https://www.ppbn.nl/aankomende-evenementen/dutch-open-2026/
LOCATION:Pitch & Putt Crayestein\, Baanhoekweg 50\, Dordrecht\, 3313 LP
CATEGORIES:Fippa Toernooien
ATTACH;FMTTYPE=image/png:https://www.ppbn.nl/wp-content/uploads/2026/04/DutchOpen2026CrayesteinLogo.png
ORGANIZER;CN="PPBN":MAILTO:bondsbureau@ppbn.nl
END:VEVENT
BEGIN:VEVENT
DTSTART;TZID=Europe/Amsterdam:20260819T093000
DTEND;TZID=Europe/Amsterdam:20260819T150000
DTSTAMP:20260426T045953
CREATED:20251222T213132Z
LAST-MODIFIED:20251222T214247Z
UID:10000430-1787131800-1787151600@www.ppbn.nl
SUMMARY:Seniorencircuit 2026
DESCRIPTION:
URL:https://www.ppbn.nl/aankomende-evenementen/seniorencircuit-2026/2026-08-19/
ATTACH;FMTTYPE=image/png:https://www.ppbn.nl/wp-content/uploads/2025/12/SeriorenCircuit.png
ORGANIZER;CN="Steven/Mischa":MAILTO:seniorencircuit@gmail.com
END:VEVENT
BEGIN:VEVENT
DTSTART;TZID=Europe/Amsterdam:20260912T080000
DTEND;TZID=Europe/Amsterdam:20260912T170000
DTSTAMP:20260426T045953
CREATED:20260113T211656Z
LAST-MODIFIED:20260119T155756Z
UID:10000439-1789200000-1789232400@www.ppbn.nl
SUMMARY:NK Strokeplay 2026 Doetinchem
DESCRIPTION:
URL:https://www.ppbn.nl/aankomende-evenementen/nk-strokeplay/
CATEGORIES:Bondstoernooien
ATTACH;FMTTYPE=image/jpeg:https://www.ppbn.nl/wp-content/uploads/2026/01/IMG_0006.jpeg
ORGANIZER;CN="PPBN":MAILTO:bondsbureau@ppbn.nl
END:VEVENT
BEGIN:VEVENT
DTSTART;TZID=Europe/Amsterdam:20260917T093000
DTEND;TZID=Europe/Amsterdam:20260917T150000
DTSTAMP:20260426T045953
CREATED:20251222T213132Z
LAST-MODIFIED:20251222T214247Z
UID:10000431-1789637400-1789657200@www.ppbn.nl
SUMMARY:Seniorencircuit 2026
DESCRIPTION:
URL:https://www.ppbn.nl/aankomende-evenementen/seniorencircuit-2026/2026-09-17/
ATTACH;FMTTYPE=image/png:https://www.ppbn.nl/wp-content/uploads/2025/12/SeriorenCircuit.png
ORGANIZER;CN="Steven/Mischa":MAILTO:seniorencircuit@gmail.com
END:VEVENT
BEGIN:VEVENT
DTSTART;VALUE=DATE:20260919
DTEND;VALUE=DATE:20260921
DTSTAMP:20260426T045953
CREATED:20251102T181004Z
LAST-MODIFIED:20251102T181004Z
UID:10000420-1789776000-1789948799@www.ppbn.nl
SUMMARY:EK Strokeplay (Frankrijk)
DESCRIPTION:Nadere informatie volgt
URL:https://www.ppbn.nl/aankomende-evenementen/ek-strokeplay-frankrijk/
END:VEVENT
BEGIN:VEVENT
DTSTART;TZID=Europe/Amsterdam:20260920T093000
DTEND;TZID=Europe/Amsterdam:20260920T180000
DTSTAMP:20260426T045953
CREATED:20251030T185825Z
LAST-MODIFIED:20251031T165640Z
UID:10000414-1789896600-1789927200@www.ppbn.nl
SUMMARY:Grutte Pier 2026
DESCRIPTION:Zondag 20 september 2026 – Het Buiten-Land\, Leeuwarden \nLocatie\nHet Buiten-LandNoarder Stienplaat 38939 DA LeeuwardenTel. 058 – 288 9666 \nOrganisatie\nPitch & Putt Golfvereniging Zuiderburen (PPGZ)Tel. 06 – 1431 1808E-mail: gruttepier@ppgz.nlWebsite: www.ppgz.nl \n\nToernooiformat\nHet Grutte Pier Toernooi is een handicapwedstrijd — dus iedereen kan winnen! \nDe inschrijving staat open voor alle spelers met een Pitch & Putt-handicap of een EGA-handicap(rekenhandicap = EGA / 3). \nEr worden drie ronden gespeeld. De einduitslag wordt bepaald op basis van het Bruto – Netto.\nVoor de beste Strokeplay spelers zijn er ook prijzen beschikbaar. \n\nProgramma\n\n\n09:30 uur Aanwezig \n\n\n10:00 uur Start eerste ronde \n\n\nNa de eerste ronde Lunch \n\n\n12:45 uur Start tweede ronde \n\n\nNa de tweede ronde Snack \n\n\n15:00 uur Start derde ronde \n\n\n17:30 uur Prijsuitreiking \n\n\n\nDeelname\n\n\nKosten: € 35\,- per persoon \n\n\nInschrijving: Open voor iedereen met een geldige handicap (P&P of EGA/3)
URL:https://www.ppbn.nl/aankomende-evenementen/grutte-pier-2026/
LOCATION:Het Buiten-Land\, Noarder Stienplaat 3\, Leeuwarden\, Friesland\, 8939 DA
ATTACH;FMTTYPE=image/png:https://www.ppbn.nl/wp-content/uploads/2025/10/Grutte-Pier-Cup-2-002.png
ORGANIZER;CN="PPGZ":MAILTO:info@ppgz.nl
END:VEVENT
BEGIN:VEVENT
DTSTART;TZID=Europe/Amsterdam:20261004T080000
DTEND;TZID=Europe/Amsterdam:20261004T170000
DTSTAMP:20260426T045953
CREATED:20260113T211758Z
LAST-MODIFIED:20260119T155942Z
UID:10000440-1791100800-1791133200@www.ppbn.nl
SUMMARY:NK Matchplay 2026 Oirschot
DESCRIPTION:
URL:https://www.ppbn.nl/aankomende-evenementen/nk-matchplay-2026/
LOCATION:Pitch & Putt Oirschot\, Spoordonkseweg 80\, Oirschot\, 5688 PJ\, Nederland
CATEGORIES:Bondstoernooien
ATTACH;FMTTYPE=image/png:https://www.ppbn.nl/wp-content/uploads/2026/01/0148D7B4-65E0-4CE9-88EB-762C1DD6D5B0.png
ORGANIZER;CN="PPBN":MAILTO:bondsbureau@ppbn.nl
GEO:51.5163404;5.2793518
X-APPLE-STRUCTURED-LOCATION;VALUE=URI;X-ADDRESS=Pitch & Putt Oirschot Spoordonkseweg 80 Oirschot 5688 PJ Nederland;X-APPLE-RADIUS=500;X-TITLE=Spoordonkseweg 80:geo:5.2793518,51.5163404
END:VEVENT
BEGIN:VEVENT
DTSTART;VALUE=DATE:20261011
DTEND;VALUE=DATE:20261012
DTSTAMP:20260426T045953
CREATED:20251117T071757Z
LAST-MODIFIED:20251117T071757Z
UID:10000423-1791676800-1791763199@www.ppbn.nl
SUMMARY:Gelders Open Koppeltoernooi op ’t Lohr
DESCRIPTION:Een gezellig koppeltoernooi waarbij we twee rondes spelen met steeds een andere spelvorm. Tussendoor staat er een lekker lunch klaar.\nEr wordt zowel voor een netto- als een bruto-klassement gestreden. \nNadere informatie volgt.
URL:https://www.ppbn.nl/aankomende-evenementen/gelders-open-koppeltoernooi-op-t-lohr/
ORGANIZER;CN="Golfclub 't Lohr":MAILTO:info@hetlohr.nl
END:VEVENT
BEGIN:VEVENT
DTSTART;TZID=Europe/Amsterdam:20261015T093000
DTEND;TZID=Europe/Amsterdam:20261015T150000
DTSTAMP:20260426T045953
CREATED:20251222T213132Z
LAST-MODIFIED:20251222T214247Z
UID:10000432-1792056600-1792076400@www.ppbn.nl
SUMMARY:Seniorencircuit 2026
DESCRIPTION:
URL:https://www.ppbn.nl/aankomende-evenementen/seniorencircuit-2026/2026-10-15/
ATTACH;FMTTYPE=image/png:https://www.ppbn.nl/wp-content/uploads/2025/12/SeriorenCircuit.png
ORGANIZER;CN="Steven/Mischa":MAILTO:seniorencircuit@gmail.com
END:VEVENT
BEGIN:VEVENT
DTSTART;VALUE=DATE:20261017
DTEND;VALUE=DATE:20261019
DTSTAMP:20260426T045953
CREATED:20251102T181509Z
LAST-MODIFIED:20251102T181509Z
UID:10000422-1792195200-1792367999@www.ppbn.nl
SUMMARY:Int. Pairs Sant Cebria
DESCRIPTION:
URL:https://www.ppbn.nl/aankomende-evenementen/int-pairs-sant-cebria/
END:VEVENT
END:VCALENDAR