BEGIN:VCALENDAR
VERSION:2.0
PRODID:-//Pitch en Putt Bond Nederland - PPBN - ECPv6.15.20//NONSGML v1.0//EN
CALSCALE:GREGORIAN
METHOD:PUBLISH
X-WR-CALNAME:Pitch en Putt Bond Nederland - PPBN
X-ORIGINAL-URL:https://www.ppbn.nl
X-WR-CALDESC:Evenementen voor Pitch en Putt Bond Nederland - PPBN
REFRESH-INTERVAL;VALUE=DURATION:PT1H
X-Robots-Tag:noindex
X-PUBLISHED-TTL:PT1H
BEGIN:VTIMEZONE
TZID:Europe/Amsterdam
BEGIN:DAYLIGHT
TZOFFSETFROM:+0100
TZOFFSETTO:+0200
TZNAME:CEST
DTSTART:20220327T010000
END:DAYLIGHT
BEGIN:STANDARD
TZOFFSETFROM:+0200
TZOFFSETTO:+0100
TZNAME:CET
DTSTART:20221030T010000
END:STANDARD
BEGIN:DAYLIGHT
TZOFFSETFROM:+0100
TZOFFSETTO:+0200
TZNAME:CEST
DTSTART:20230326T010000
END:DAYLIGHT
BEGIN:STANDARD
TZOFFSETFROM:+0200
TZOFFSETTO:+0100
TZNAME:CET
DTSTART:20231029T010000
END:STANDARD
BEGIN:DAYLIGHT
TZOFFSETFROM:+0100
TZOFFSETTO:+0200
TZNAME:CEST
DTSTART:20240331T010000
END:DAYLIGHT
BEGIN:STANDARD
TZOFFSETFROM:+0200
TZOFFSETTO:+0100
TZNAME:CET
DTSTART:20241027T010000
END:STANDARD
BEGIN:DAYLIGHT
TZOFFSETFROM:+0100
TZOFFSETTO:+0200
TZNAME:CEST
DTSTART:20250330T010000
END:DAYLIGHT
BEGIN:STANDARD
TZOFFSETFROM:+0200
TZOFFSETTO:+0100
TZNAME:CET
DTSTART:20251026T010000
END:STANDARD
END:VTIMEZONE
BEGIN:VEVENT
DTSTART;VALUE=DATE:20240323
DTEND;VALUE=DATE:20240324
DTSTAMP:20260426T051528
CREATED:20240107T123859Z
LAST-MODIFIED:20240321T133605Z
UID:10000354-1711152000-1711238399@www.ppbn.nl
SUMMARY:NRT1 Koudum
DESCRIPTION:Update 21-03-2024: Eten na afloop van het toernooi \nPitch&Putt Koudum biedt na afloop een buffet aan.Kosten € 12\,50Graag opgeven voor vrijdag 18 uurVia koudum@pitch-putt.nl/ 0514-522246
URL:https://www.ppbn.nl/aankomende-evenementen/nrt1-koudum/
LOCATION:Pitch & Putt Koudum\, Nieuweweg 42\, Koudum\, 8723 EB\, Nederland
CATEGORIES:Bondstoernooien
ATTACH;FMTTYPE=image/jpeg:https://www.ppbn.nl/wp-content/uploads/2020/03/NRT-Koudum.jpg
ORGANIZER;CN="PPBN":MAILTO:bondsbureau@ppbn.nl
GEO:52.9195475;5.4612189
X-APPLE-STRUCTURED-LOCATION;VALUE=URI;X-ADDRESS=Pitch & Putt Koudum Nieuweweg 42 Koudum 8723 EB Nederland;X-APPLE-RADIUS=500;X-TITLE=Nieuweweg 42:geo:5.4612189,52.9195475
END:VEVENT
BEGIN:VEVENT
DTSTART;VALUE=DATE:20240316
DTEND;VALUE=DATE:20240317
DTSTAMP:20260426T051528
CREATED:20240107T124426Z
LAST-MODIFIED:20240314T212602Z
UID:10000361-1710547200-1710633599@www.ppbn.nl
SUMMARY:NK Teams Oirschot
DESCRIPTION:
URL:https://www.ppbn.nl/aankomende-evenementen/nk-teams-oirschot-2/
LOCATION:Pitch & Putt Oirschot\, Spoordonkseweg 80\, Oirschot\, 5688 PJ\, Nederland
CATEGORIES:Bondstoernooien
ATTACH;FMTTYPE=image/jpeg:https://www.ppbn.nl/wp-content/uploads/2022/01/NK-Teams-Oirschot-1.jpg
ORGANIZER;CN="PPBN":MAILTO:bondsbureau@ppbn.nl
GEO:51.5163404;5.2793518
X-APPLE-STRUCTURED-LOCATION;VALUE=URI;X-ADDRESS=Pitch & Putt Oirschot Spoordonkseweg 80 Oirschot 5688 PJ Nederland;X-APPLE-RADIUS=500;X-TITLE=Spoordonkseweg 80:geo:5.2793518,51.5163404
END:VEVENT
BEGIN:VEVENT
DTSTART;VALUE=DATE:20240302
DTEND;VALUE=DATE:20240303
DTSTAMP:20260426T051528
CREATED:20231113T101912Z
LAST-MODIFIED:20231113T101912Z
UID:10000353-1709337600-1709423999@www.ppbn.nl
SUMMARY:Oost-Nederlands Kampioenschap 2024
DESCRIPTION:
URL:https://www.ppbn.nl/aankomende-evenementen/oost-nederlands-kampioenschap-2024/
LOCATION:Pitch & Putt Lemele\, Lage Esweg 5\, Lemele\, 8148 RA\, Nederland
CATEGORIES:Baaninitiatieven
ATTACH;FMTTYPE=image/jpeg:https://www.ppbn.nl/wp-content/uploads/2023/11/ONK-Lemele-scaled.jpg
ORGANIZER;CN="Pitch & Putt Lemele":MAILTO:lemele@pitch-putt.nl
GEO:52.4532898;6.4112728
X-APPLE-STRUCTURED-LOCATION;VALUE=URI;X-ADDRESS=Pitch & Putt Lemele Lage Esweg 5 Lemele 8148 RA Nederland;X-APPLE-RADIUS=500;X-TITLE=Lage Esweg 5:geo:6.4112728,52.4532898
END:VEVENT
BEGIN:VEVENT
DTSTART;VALUE=DATE:20231020
DTEND;VALUE=DATE:20231023
DTSTAMP:20260426T051528
CREATED:20221124T155810Z
LAST-MODIFIED:20221124T160603Z
UID:10000327-1697760000-1698019199@www.ppbn.nl
SUMMARY:Catalan International Pairs 2023
DESCRIPTION:
URL:https://www.ppbn.nl/aankomende-evenementen/catalan-international-pairs-2023/
LOCATION:Pitch & Putt Sant Cebrià\, Afores\, S/N\, Barcelona\, Sant Cebrià de Vallalta\, 08396\, Spanje
CATEGORIES:Fippa Toernooien
ATTACH;FMTTYPE=image/jpeg:https://www.ppbn.nl/wp-content/uploads/2022/11/Fippa_logo2.jpeg
ORGANIZER;CN="FIPPA":MAILTO:alloret@pitch.cat
END:VEVENT
BEGIN:VEVENT
DTSTART;VALUE=DATE:20231014
DTEND;VALUE=DATE:20231015
DTSTAMP:20260426T051528
CREATED:20230828T110908Z
LAST-MODIFIED:20230828T110908Z
UID:10000350-1697241600-1697327999@www.ppbn.nl
SUMMARY:Dug-Out Challenge Toernooi
DESCRIPTION:
URL:https://www.ppbn.nl/aankomende-evenementen/dug-out-challenge-toernooi/
LOCATION:Pitch & Putt Papendal\, Papendallaan 3\, Arnhem\, 6816 VD\, Nederland
CATEGORIES:Baaninitiatieven
ATTACH;FMTTYPE=image/jpeg:https://www.ppbn.nl/wp-content/uploads/2023/08/Dug-Out-uitnodiging-scaled.jpg
ORGANIZER;CN="Pitch & Putt Papendal":MAILTO:papendal@pitch-putt.nl
END:VEVENT
BEGIN:VEVENT
DTSTART;VALUE=DATE:20231012
DTEND;VALUE=DATE:20231013
DTSTAMP:20260426T051529
CREATED:20230307T092539Z
LAST-MODIFIED:20230307T092539Z
UID:10000347-1697068800-1697155199@www.ppbn.nl
SUMMARY:Seniorencircuit ronde 6 Bussloo
DESCRIPTION:
URL:https://www.ppbn.nl/aankomende-evenementen/seniorencircuit-ronde-6-bussloo/
LOCATION:Pitch & Putt Bussloo\, Withagenweg 17\, Wilp\, 7384 SB\, Nederland
CATEGORIES:Baaninitiatieven
ATTACH;FMTTYPE=image/jpeg:https://www.ppbn.nl/wp-content/uploads/2023/03/seniorencircuit2023.jpg
GEO:52.2027359;6.0902821
X-APPLE-STRUCTURED-LOCATION;VALUE=URI;X-ADDRESS=Pitch & Putt Bussloo Withagenweg 17 Wilp 7384 SB Nederland;X-APPLE-RADIUS=500;X-TITLE=Withagenweg 17:geo:6.0902821,52.2027359
END:VEVENT
BEGIN:VEVENT
DTSTART;VALUE=DATE:20230930
DTEND;VALUE=DATE:20231001
DTSTAMP:20260426T051529
CREATED:20221229T184248Z
LAST-MODIFIED:20230923T124609Z
UID:10000330-1696032000-1696118399@www.ppbn.nl
SUMMARY:NK Strokeplay Molenberg
DESCRIPTION:Inschrijflijst\n \nOvernachten met korting\nSuggestie voor een overnachting: Met Grand Hotel Ter Duin is er een afspraak gemaakt voor een overnachting met korting. U moet bellen of een mail sturen. De prijzen zijn 1 pers.kamer 99 euro\, 2 pers.kamer 109 euro inclusief ontbijt.  Grand Hotel Ter Duin | Tel: 0111-655200 | receptie.grandhotelterduin@sheetz.nl | o.v.v. NK Strokeplay 30 september Molenberg.
URL:https://www.ppbn.nl/aankomende-evenementen/nk-strokeplay-molenberg/
LOCATION:Golfbaan Molenberg\, Hogeweg 53\, Burgh-Haamstede\, Zeeland\, 4328 PB\, Nederland
CATEGORIES:Bondstoernooien
ATTACH;FMTTYPE=image/jpeg:https://www.ppbn.nl/wp-content/uploads/2022/12/NK-Strokeplay-Molenberg_2.jpg
ORGANIZER;CN="PPBN":MAILTO:bondsbureau@ppbn.nl
END:VEVENT
BEGIN:VEVENT
DTSTART;VALUE=DATE:20230929
DTEND;VALUE=DATE:20231002
DTSTAMP:20260426T051529
CREATED:20221124T155150Z
LAST-MODIFIED:20221124T160621Z
UID:10000326-1695945600-1696204799@www.ppbn.nl
SUMMARY:Ourense International Pairs 2023
DESCRIPTION:
URL:https://www.ppbn.nl/aankomende-evenementen/ourense-international-pairs-2023/
LOCATION:P&P Ourense and P&P Pozo do Lago\, Spanje
CATEGORIES:Fippa Toernooien
ATTACH;FMTTYPE=image/jpeg:https://www.ppbn.nl/wp-content/uploads/2022/11/Fippa_logo2.jpeg
ORGANIZER;CN="FIPPA":MAILTO:alloret@pitch.cat
END:VEVENT
BEGIN:VEVENT
DTSTART;VALUE=DATE:20230916
DTEND;VALUE=DATE:20230917
DTSTAMP:20260426T051529
CREATED:20230330T171616Z
LAST-MODIFIED:20230904T125912Z
UID:10000348-1694822400-1694908799@www.ppbn.nl
SUMMARY:NRT6 Orvelte
DESCRIPTION:
URL:https://www.ppbn.nl/aankomende-evenementen/nrt6-orvelte/
LOCATION:Pitch & Putt Orvelte\, Meester J.B. Kanweg 3\, Witteveen\, 9439 TD\, Nederland
CATEGORIES:Bondstoernooien
ATTACH;FMTTYPE=image/jpeg:https://www.ppbn.nl/wp-content/uploads/2020/02/NRT-Orvelte.jpg
ORGANIZER;CN="PPBN":MAILTO:bondsbureau@ppbn.nl
GEO:52.8339054;6.6680601
X-APPLE-STRUCTURED-LOCATION;VALUE=URI;X-ADDRESS=Pitch & Putt Orvelte Meester J.B. Kanweg 3 Witteveen 9439 TD Nederland;X-APPLE-RADIUS=500;X-TITLE=Meester J.B. Kanweg 3:geo:6.6680601,52.8339054
END:VEVENT
BEGIN:VEVENT
DTSTART;VALUE=DATE:20230914
DTEND;VALUE=DATE:20230915
DTSTAMP:20260426T051529
CREATED:20230307T092437Z
LAST-MODIFIED:20230307T121406Z
UID:10000346-1694649600-1694735999@www.ppbn.nl
SUMMARY:Seniorencircuit ronde 5 Diepenheim
DESCRIPTION:
URL:https://www.ppbn.nl/aankomende-evenementen/seniorencircuit-ronde-5-diepenheim/
LOCATION:Pitch & Putt Diepenheim\, Hengevelderweg 3\, Diepenheim\, 7478 PE\, Nederland
CATEGORIES:Baaninitiatieven
ATTACH;FMTTYPE=image/jpeg:https://www.ppbn.nl/wp-content/uploads/2023/03/seniorencircuit2023.jpg
GEO:52.1965091;6.5920072
X-APPLE-STRUCTURED-LOCATION;VALUE=URI;X-ADDRESS=Pitch & Putt Diepenheim Hengevelderweg 3 Diepenheim 7478 PE Nederland;X-APPLE-RADIUS=500;X-TITLE=Hengevelderweg 3:geo:6.5920072,52.1965091
END:VEVENT
BEGIN:VEVENT
DTSTART;VALUE=DATE:20230903
DTEND;VALUE=DATE:20230904
DTSTAMP:20260426T051529
CREATED:20230104T164430Z
LAST-MODIFIED:20230828T110153Z
UID:10000336-1693699200-1693785599@www.ppbn.nl
SUMMARY:NK Clubteams Diepenheim
DESCRIPTION:
URL:https://www.ppbn.nl/aankomende-evenementen/nk-clubteams-diepenheim/
LOCATION:Pitch & Putt Diepenheim\, Hengevelderweg 3\, Diepenheim\, 7478 PE\, Nederland
CATEGORIES:Bondstoernooien
ATTACH;FMTTYPE=image/jpeg:https://www.ppbn.nl/wp-content/uploads/2023/09/NK-Clubteams-Twente.jpg
ORGANIZER;CN="PPBN":MAILTO:bondsbureau@ppbn.nl
GEO:52.1965091;6.5920072
X-APPLE-STRUCTURED-LOCATION;VALUE=URI;X-ADDRESS=Pitch & Putt Diepenheim Hengevelderweg 3 Diepenheim 7478 PE Nederland;X-APPLE-RADIUS=500;X-TITLE=Hengevelderweg 3:geo:6.5920072,52.1965091
END:VEVENT
BEGIN:VEVENT
DTSTART;VALUE=DATE:20230816
DTEND;VALUE=DATE:20230817
DTSTAMP:20260426T051529
CREATED:20230307T092349Z
LAST-MODIFIED:20230307T092349Z
UID:10000345-1692144000-1692230399@www.ppbn.nl
SUMMARY:Seniorencircuit ronde 4 Lemele
DESCRIPTION:
URL:https://www.ppbn.nl/aankomende-evenementen/seniorencircuit-ronde-4-lemele/
LOCATION:Pitch & Putt Lemele\, Lage Esweg 5\, Lemele\, 8148 RA\, Nederland
CATEGORIES:Baaninitiatieven
ATTACH;FMTTYPE=image/jpeg:https://www.ppbn.nl/wp-content/uploads/2023/03/seniorencircuit2023.jpg
GEO:52.4532898;6.4112728
X-APPLE-STRUCTURED-LOCATION;VALUE=URI;X-ADDRESS=Pitch & Putt Lemele Lage Esweg 5 Lemele 8148 RA Nederland;X-APPLE-RADIUS=500;X-TITLE=Lage Esweg 5:geo:6.4112728,52.4532898
END:VEVENT
BEGIN:VEVENT
DTSTART;VALUE=DATE:20230729
DTEND;VALUE=DATE:20230731
DTSTAMP:20260426T051529
CREATED:20221124T154835Z
LAST-MODIFIED:20221124T160643Z
UID:10000324-1690588800-1690761599@www.ppbn.nl
SUMMARY:5 Nations 2023
DESCRIPTION:
URL:https://www.ppbn.nl/aankomende-evenementen/5-nations-2023/
CATEGORIES:Fippa Toernooien
ATTACH;FMTTYPE=image/jpeg:https://www.ppbn.nl/wp-content/uploads/2022/11/Fippa_logo2.jpeg
ORGANIZER;CN="FIPPA":MAILTO:alloret@pitch.cat
END:VEVENT
BEGIN:VEVENT
DTSTART;VALUE=DATE:20230709
DTEND;VALUE=DATE:20230710
DTSTAMP:20260426T051529
CREATED:20230130T114801Z
LAST-MODIFIED:20230611T191016Z
UID:10000339-1688860800-1688947199@www.ppbn.nl
SUMMARY:NRT5 Papendal
DESCRIPTION:
URL:https://www.ppbn.nl/aankomende-evenementen/nrt5-papendal/
LOCATION:Pitch & Putt Papendal\, Papendallaan 3\, Arnhem\, 6816 VD\, Nederland
CATEGORIES:Bondstoernooien
ATTACH;FMTTYPE=image/jpeg:https://www.ppbn.nl/wp-content/uploads/2021/08/NRT-Papendal.jpg
ORGANIZER;CN="PPBN":MAILTO:bondsbureau@ppbn.nl
END:VEVENT
BEGIN:VEVENT
DTSTART;VALUE=DATE:20230707
DTEND;VALUE=DATE:20230710
DTSTAMP:20260426T051529
CREATED:20221124T154727Z
LAST-MODIFIED:20221124T160701Z
UID:10000323-1688688000-1688947199@www.ppbn.nl
SUMMARY:Breizh Open 2023
DESCRIPTION:
URL:https://www.ppbn.nl/aankomende-evenementen/breizh-open-2023/
LOCATION:Pitch & Putt Quiberon\, Chemin de la Trepetinière\, Quiberon\, 56170\, Frankrijk
CATEGORIES:Fippa Toernooien
ATTACH;FMTTYPE=image/jpeg:https://www.ppbn.nl/wp-content/uploads/2022/11/Fippa_logo2.jpeg
ORGANIZER;CN="FIPPA":MAILTO:alloret@pitch.cat
END:VEVENT
BEGIN:VEVENT
DTSTART;VALUE=DATE:20230706
DTEND;VALUE=DATE:20230707
DTSTAMP:20260426T051529
CREATED:20230307T092258Z
LAST-MODIFIED:20230307T092258Z
UID:10000344-1688601600-1688687999@www.ppbn.nl
SUMMARY:Seniorencircuit ronde 3 Golfplezier Twente
DESCRIPTION:
URL:https://www.ppbn.nl/aankomende-evenementen/seniorencircuit-ronde-3-golfplezier-twente/
LOCATION:Golfplezier Twente\, Bekkenhaarsweg 28\, Hoge Hexel\, 7645 AJ\, Nederland
CATEGORIES:Baaninitiatieven
ATTACH;FMTTYPE=image/jpeg:https://www.ppbn.nl/wp-content/uploads/2023/03/seniorencircuit2023.jpg
END:VEVENT
BEGIN:VEVENT
DTSTART;VALUE=DATE:20230701
DTEND;VALUE=DATE:20230703
DTSTAMP:20260426T051529
CREATED:20221124T154441Z
LAST-MODIFIED:20221124T160721Z
UID:10000322-1688169600-1688342399@www.ppbn.nl
SUMMARY:Galicia Open 2023
DESCRIPTION:
URL:https://www.ppbn.nl/aankomende-evenementen/galicia-open-2023/
LOCATION:Pitch & Putt Barbanza\, Rectoral de Macenda\, Boiro\, 15937\, Spanje
CATEGORIES:Fippa Toernooien
ATTACH;FMTTYPE=image/jpeg:https://www.ppbn.nl/wp-content/uploads/2022/11/Fippa_logo2.jpeg
ORGANIZER;CN="FIPPA":MAILTO:alloret@pitch.cat
END:VEVENT
BEGIN:VEVENT
DTSTART;VALUE=DATE:20230624
DTEND;VALUE=DATE:20230625
DTSTAMP:20260426T051529
CREATED:20230103T190618Z
LAST-MODIFIED:20230103T190618Z
UID:10000335-1687564800-1687651199@www.ppbn.nl
SUMMARY:NK Matchplay Strand Horst
DESCRIPTION:
URL:https://www.ppbn.nl/aankomende-evenementen/nk-matchplay-strand-horst/
LOCATION:Pitch & Putt Strand Horst\, Palmbosweg 4\, Ermelo\, 3853 LB\, Nederland
CATEGORIES:Bondstoernooien
ATTACH;FMTTYPE=image/jpeg:https://www.ppbn.nl/wp-content/uploads/2020/02/NK-Matchplay-Strand-Horst.jpg
ORGANIZER;CN="PPBN":MAILTO:bondsbureau@ppbn.nl
GEO:52.2927489;5.5491352
X-APPLE-STRUCTURED-LOCATION;VALUE=URI;X-ADDRESS=Pitch & Putt Strand Horst Palmbosweg 4 Ermelo 3853 LB Nederland;X-APPLE-RADIUS=500;X-TITLE=Palmbosweg 4:geo:5.5491352,52.2927489
END:VEVENT
BEGIN:VEVENT
DTSTART;VALUE=DATE:20230617
DTEND;VALUE=DATE:20230618
DTSTAMP:20260426T051529
CREATED:20230523T084928Z
LAST-MODIFIED:20230523T094818Z
UID:10000349-1686960000-1687046399@www.ppbn.nl
SUMMARY:LIVE COOKING 2023
DESCRIPTION:
URL:https://www.ppbn.nl/aankomende-evenementen/live-cooking-2023/
LOCATION:Pitch & Putt Papendal\, Papendallaan 3\, Arnhem\, 6816 VD\, Nederland
CATEGORIES:Baaninitiatieven
ATTACH;FMTTYPE=image/jpeg:https://www.ppbn.nl/wp-content/uploads/2023/05/livecookingPP2023.jpg
ORGANIZER;CN="Pitch & Putt Papendal":MAILTO:papendal@pitch-putt.nl
END:VEVENT
BEGIN:VEVENT
DTSTART;VALUE=DATE:20230616
DTEND;VALUE=DATE:20230619
DTSTAMP:20260426T051529
CREATED:20221124T154206Z
LAST-MODIFIED:20221124T160806Z
UID:10000321-1686873600-1687132799@www.ppbn.nl
SUMMARY:Andorra Pairs 2023
DESCRIPTION:
URL:https://www.ppbn.nl/aankomende-evenementen/andorra-pairs-2023/
LOCATION:Pitch & Putt XIXERELLA\, Antoni Armengol\, Xixerella\, La Massana\, La Massana\, AD400\, Andorra
CATEGORIES:Fippa Toernooien
ATTACH;FMTTYPE=image/jpeg:https://www.ppbn.nl/wp-content/uploads/2022/11/Fippa_logo2.jpeg
ORGANIZER;CN="PPBN":MAILTO:bondsbureau@ppbn.nl
END:VEVENT
BEGIN:VEVENT
DTSTART;VALUE=DATE:20230611
DTEND;VALUE=DATE:20230612
DTSTAMP:20260426T051529
CREATED:20230102T224753Z
LAST-MODIFIED:20230515T083932Z
UID:10000333-1686441600-1686527999@www.ppbn.nl
SUMMARY:NRT4 Leeuwarden
DESCRIPTION:
URL:https://www.ppbn.nl/aankomende-evenementen/nrt4-leeuwarden/
LOCATION:Pitch & Putt Leeuwarden\, Noarder Stienplaat 3\, Leeuwarden\, 8939 DA\, Nederland
CATEGORIES:Bondstoernooien
ATTACH;FMTTYPE=image/jpeg:https://www.ppbn.nl/wp-content/uploads/2022/01/NRT-Leeuwarden.jpg
ORGANIZER;CN="PPBN":MAILTO:bondsbureau@ppbn.nl
GEO:53.1837291;5.8541253
X-APPLE-STRUCTURED-LOCATION;VALUE=URI;X-ADDRESS=Pitch & Putt Leeuwarden Noarder Stienplaat 3 Leeuwarden 8939 DA Nederland;X-APPLE-RADIUS=500;X-TITLE=Noarder Stienplaat 3:geo:5.8541253,53.1837291
END:VEVENT
BEGIN:VEVENT
DTSTART;VALUE=DATE:20230519
DTEND;VALUE=DATE:20230522
DTSTAMP:20260426T051529
CREATED:20221124T154006Z
LAST-MODIFIED:20221124T160742Z
UID:10000320-1684454400-1684713599@www.ppbn.nl
SUMMARY:Euskadi Open 2023
DESCRIPTION:
URL:https://www.ppbn.nl/aankomende-evenementen/euskadi-open-2023/
LOCATION:Pitch & Putt Urduna\, Bo. Montaleón\, 1\, Orduña-Urduña\, Biscay\, 48460\, Spanje
CATEGORIES:Fippa Toernooien
ATTACH;FMTTYPE=image/jpeg:https://www.ppbn.nl/wp-content/uploads/2022/11/Fippa_logo2.jpeg
ORGANIZER;CN="FIPPA":MAILTO:alloret@pitch.cat
END:VEVENT
BEGIN:VEVENT
DTSTART;VALUE=DATE:20230513
DTEND;VALUE=DATE:20230514
DTSTAMP:20260426T051529
CREATED:20230102T225607Z
LAST-MODIFIED:20230505T204432Z
UID:10000334-1683936000-1684022399@www.ppbn.nl
SUMMARY:NRT3 Oostwold
DESCRIPTION:
URL:https://www.ppbn.nl/aankomende-evenementen/nrt3-oostwold/
LOCATION:Pitch & Putt Oostwold\, Huningaweg 7\, Oostwold\, 9682 PA\, Nederland
CATEGORIES:Bondstoernooien
ATTACH;FMTTYPE=image/jpeg:https://www.ppbn.nl/wp-content/uploads/2022/06/NRT-Oostwold2.jpg
ORGANIZER;CN="PPBN":MAILTO:bondsbureau@ppbn.nl
GEO:53.2018197;7.0327527
X-APPLE-STRUCTURED-LOCATION;VALUE=URI;X-ADDRESS=Pitch & Putt Oostwold Huningaweg 7 Oostwold 9682 PA Nederland;X-APPLE-RADIUS=500;X-TITLE=Huningaweg 7:geo:7.0327527,53.2018197
END:VEVENT
BEGIN:VEVENT
DTSTART;VALUE=DATE:20230510
DTEND;VALUE=DATE:20230511
DTSTAMP:20260426T051529
CREATED:20230307T092048Z
LAST-MODIFIED:20230307T092048Z
UID:10000343-1683676800-1683763199@www.ppbn.nl
SUMMARY:Seniorencircuit ronde 2 't Lohr
DESCRIPTION:
URL:https://www.ppbn.nl/aankomende-evenementen/seniorencircuit-ronde-2-t-lohr/
LOCATION:Golfclub ’t Lohr\, Lohrpad 2\, Voorst (Oude IJsselstreek)\, 7083 AX\, Nederland
CATEGORIES:Baaninitiatieven
ATTACH;FMTTYPE=image/jpeg:https://www.ppbn.nl/wp-content/uploads/2023/03/seniorencircuit2023.jpg
END:VEVENT
BEGIN:VEVENT
DTSTART;VALUE=DATE:20230507
DTEND;VALUE=DATE:20230508
DTSTAMP:20260426T051529
CREATED:20230108T213713Z
LAST-MODIFIED:20230108T213721Z
UID:10000337-1683417600-1683503999@www.ppbn.nl
SUMMARY:Open Fries Texas Scramble 2023
DESCRIPTION:
URL:https://www.ppbn.nl/aankomende-evenementen/open-fries-texas-scramble-2023/
LOCATION:Pitch & Putt Leeuwarden\, Noarder Stienplaat 3\, Leeuwarden\, 8939 DA\, Nederland
CATEGORIES:Baaninitiatieven
ATTACH;FMTTYPE=image/jpeg:https://www.ppbn.nl/wp-content/uploads/2016/11/Logo_OFTS.jpg
ORGANIZER;CN="PPGZ":MAILTO:info@ppgz.nl
GEO:53.1837291;5.8541253
X-APPLE-STRUCTURED-LOCATION;VALUE=URI;X-ADDRESS=Pitch & Putt Leeuwarden Noarder Stienplaat 3 Leeuwarden 8939 DA Nederland;X-APPLE-RADIUS=500;X-TITLE=Noarder Stienplaat 3:geo:5.8541253,53.1837291
END:VEVENT
BEGIN:VEVENT
DTSTART;VALUE=DATE:20230429
DTEND;VALUE=DATE:20230430
DTSTAMP:20260426T051529
CREATED:20221229T185936Z
LAST-MODIFIED:20230130T122134Z
UID:10000331-1682726400-1682812799@www.ppbn.nl
SUMMARY:NRT2 't Lohr
DESCRIPTION:
URL:https://www.ppbn.nl/aankomende-evenementen/nrt2-t-lohr/
LOCATION:Golfclub ’t Lohr\, Lohrpad 2\, Voorst (Oude IJsselstreek)\, 7083 AX\, Nederland
CATEGORIES:Bondstoernooien
ATTACH;FMTTYPE=image/jpeg:https://www.ppbn.nl/wp-content/uploads/2020/02/NRT-Lohr.jpg
ORGANIZER;CN="PPBN":MAILTO:bondsbureau@ppbn.nl
END:VEVENT
BEGIN:VEVENT
DTSTART;VALUE=DATE:20230427
DTEND;VALUE=DATE:20230501
DTSTAMP:20260426T051529
CREATED:20230221T115614Z
LAST-MODIFIED:20230221T120158Z
UID:10000340-1682553600-1682899199@www.ppbn.nl
SUMMARY:WPPT 2023 Lleida
DESCRIPTION:COMPETITION CONDITIONS 2023
URL:https://www.ppbn.nl/aankomende-evenementen/wppt-2023-lleida/
LOCATION:Pitch & Putt Lleida\, Camí dels Fondos 80\, Torre-Serona\, Lleida\, 25131\, Nederland
CATEGORIES:Fippa Toernooien,WPPT
ATTACH;FMTTYPE=image/jpeg:https://www.ppbn.nl/wp-content/uploads/2023/02/Cartell-LLEIDA-202370-scaled.jpg
END:VEVENT
BEGIN:VEVENT
DTSTART;VALUE=DATE:20230421
DTEND;VALUE=DATE:20230424
DTSTAMP:20260426T051529
CREATED:20221010T095600Z
LAST-MODIFIED:20221108T115618Z
UID:10000218-1682035200-1682294399@www.ppbn.nl
SUMMARY:Internationaal Gelders Open 2023
DESCRIPTION:
URL:https://www.ppbn.nl/aankomende-evenementen/internatonaal-gelders-open-2023/
LOCATION:Pitch & Putt Strand Horst\, Palmbosweg 4\, Ermelo\, 3853 LB\, Nederland
CATEGORIES:Baaninitiatieven
ATTACH;FMTTYPE=image/png:https://www.ppbn.nl/wp-content/uploads/2022/10/GO2023_Banner.png
ORGANIZER;CN="Ed Janssen":MAILTO:edjejanssen@gmail.com
GEO:52.2927489;5.5491352
X-APPLE-STRUCTURED-LOCATION;VALUE=URI;X-ADDRESS=Pitch & Putt Strand Horst Palmbosweg 4 Ermelo 3853 LB Nederland;X-APPLE-RADIUS=500;X-TITLE=Palmbosweg 4:geo:5.5491352,52.2927489
END:VEVENT
BEGIN:VEVENT
DTSTART;VALUE=DATE:20230414
DTEND;VALUE=DATE:20230417
DTSTAMP:20260426T051529
CREATED:20221124T153617Z
LAST-MODIFIED:20230126T131424Z
UID:10000319-1681430400-1681689599@www.ppbn.nl
SUMMARY:Catalaans Open 2023
DESCRIPTION:Inschrijflijst Catalaans Open\nNrNaam / NameCategorie / Category1Jorrit van der wegHeren / Gents2Bo SingerlingHeren / Gents3Remon de Groot Heren / Gents4Marcel AhuisHeren / Gents5Esther de SchiffartDames / Ladies6Maurits RangkouwHeren / Gents7Bas HeussenSenioren / Over 55's8Kim Kuijsters Dames / Ladies9Marcel Ho-Sam-SooiHeren / Gents10Frans VorkSenioren / Over 55's11Tim LetteboerHeren / Gents12Steven HissinkHeren / Gents13Bert HermsSenioren / Over 55's14Remco WilderinkHeren / Gents15René Groot RoessinkHeren / Gents16Berrie BerendsSenioren / Over 55's17Joseph VerheggenHeren / Gents
URL:https://www.ppbn.nl/aankomende-evenementen/catalaans-open-2023/
LOCATION:HCP1 Sant Andreu de Llavaneres\, Carr. de Cornellà a Fogars de Tordera\, Km. 7\, Sant Vicenç de Montalt\, Barcelona\, 08394\, Spanje
CATEGORIES:Fippa Toernooien
ATTACH;FMTTYPE=image/jpeg:https://www.ppbn.nl/wp-content/uploads/2022/11/Fippa_logo2.jpeg
ORGANIZER;CN="FIPPA":MAILTO:alloret@pitch.cat
END:VEVENT
BEGIN:VEVENT
DTSTART;VALUE=DATE:20230402
DTEND;VALUE=DATE:20230403
DTSTAMP:20260426T051529
CREATED:20230102T222914Z
LAST-MODIFIED:20230324T221210Z
UID:10000332-1680393600-1680479999@www.ppbn.nl
SUMMARY:NRT1 Oirschot
DESCRIPTION:
URL:https://www.ppbn.nl/aankomende-evenementen/nrt1-oirschot/
LOCATION:Pitch & Putt Oirschot\, Spoordonkseweg 80\, Oirschot\, 5688 PJ\, Nederland
CATEGORIES:Bondstoernooien
ATTACH;FMTTYPE=image/jpeg:https://www.ppbn.nl/wp-content/uploads/2023/01/NRT-Oirschot.jpg
ORGANIZER;CN="PPBN":MAILTO:bondsbureau@ppbn.nl
GEO:51.5163404;5.2793518
X-APPLE-STRUCTURED-LOCATION;VALUE=URI;X-ADDRESS=Pitch & Putt Oirschot Spoordonkseweg 80 Oirschot 5688 PJ Nederland;X-APPLE-RADIUS=500;X-TITLE=Spoordonkseweg 80:geo:5.2793518,51.5163404
END:VEVENT
END:VCALENDAR