BEGIN:VCALENDAR
VERSION:2.0
PRODID:-//Pitch en Putt Bond Nederland - PPBN - ECPv6.15.20//NONSGML v1.0//EN
CALSCALE:GREGORIAN
METHOD:PUBLISH
X-WR-CALNAME:Pitch en Putt Bond Nederland - PPBN
X-ORIGINAL-URL:https://www.ppbn.nl
X-WR-CALDESC:Evenementen voor Pitch en Putt Bond Nederland - PPBN
REFRESH-INTERVAL;VALUE=DURATION:PT1H
X-Robots-Tag:noindex
X-PUBLISHED-TTL:PT1H
BEGIN:VTIMEZONE
TZID:Europe/Amsterdam
BEGIN:DAYLIGHT
TZOFFSETFROM:+0100
TZOFFSETTO:+0200
TZNAME:CEST
DTSTART:20240331T010000
END:DAYLIGHT
BEGIN:STANDARD
TZOFFSETFROM:+0200
TZOFFSETTO:+0100
TZNAME:CET
DTSTART:20241027T010000
END:STANDARD
BEGIN:DAYLIGHT
TZOFFSETFROM:+0100
TZOFFSETTO:+0200
TZNAME:CEST
DTSTART:20250330T010000
END:DAYLIGHT
BEGIN:STANDARD
TZOFFSETFROM:+0200
TZOFFSETTO:+0100
TZNAME:CET
DTSTART:20251026T010000
END:STANDARD
BEGIN:DAYLIGHT
TZOFFSETFROM:+0100
TZOFFSETTO:+0200
TZNAME:CEST
DTSTART:20260329T010000
END:DAYLIGHT
BEGIN:STANDARD
TZOFFSETFROM:+0200
TZOFFSETTO:+0100
TZNAME:CET
DTSTART:20261025T010000
END:STANDARD
END:VTIMEZONE
BEGIN:VEVENT
DTSTART;VALUE=DATE:20251004
DTEND;VALUE=DATE:20251005
DTSTAMP:20260426T044949
CREATED:20250223T193015Z
LAST-MODIFIED:20250223T193015Z
UID:10000397-1759536000-1759622399@www.ppbn.nl
SUMMARY:NK Matchplay Orvelte 2025
DESCRIPTION:
URL:https://www.ppbn.nl/aankomende-evenementen/nk-matchplay-orvelte-2025/
LOCATION:Pitch & Putt Orvelte\, Meester J.B. Kanweg 3\, Witteveen\, 9439 TD\, Nederland
CATEGORIES:Bondstoernooien
ORGANIZER;CN="PPBN":MAILTO:bondsbureau@ppbn.nl
GEO:52.8339054;6.6680601
X-APPLE-STRUCTURED-LOCATION;VALUE=URI;X-ADDRESS=Pitch & Putt Orvelte Meester J.B. Kanweg 3 Witteveen 9439 TD Nederland;X-APPLE-RADIUS=500;X-TITLE=Meester J.B. Kanweg 3:geo:6.6680601,52.8339054
END:VEVENT
BEGIN:VEVENT
DTSTART;TZID=Europe/Amsterdam:20251012T090000
DTEND;TZID=Europe/Amsterdam:20251012T170000
DTSTAMP:20260426T044949
CREATED:20250411T064557Z
LAST-MODIFIED:20250411T064557Z
UID:10000407-1760259600-1760288400@www.ppbn.nl
SUMMARY:11 Steden Cross Country Toernooi 2025
DESCRIPTION:Tijdens het Elfstedentoernooi speel je als koppel 3 ronden van 11 steden. De holes variëren van 20 tot 130 m en er zijn meer dan 3 clubs toegestaan. \n1ste ronde: Fourball Betterball.\nDeze wedstrijd vorm wordt per 4 spelers gespeeld. De vierbal bestaat uit 2 teams van elk 2 spelers\, ieder speelt zijn eigen bal\, echter de score van de beste speler van het team telt en wordt dus genoteerd. \n2de ronde : Greensome\nDeze wedstrijd vorm is een 2-spelers strokeplay. Alle 2 de spelers van een team slaan af op de tee box en vervolgens kiezen de teamleden de bal met de beste ligging. De speler waarvan niet de bal is gekozen gaat verder met de bal van zijn medespeler en doet een slag. Indien de bal niet in de hole is terecht gekomen dan speelt de andere speler weer de bal waarvan hij terecht is gekomen. Dit gaat door totdat de bal in de hole ligt. De gekozen bal wordt dus om en om door de spelers gespeeld. \n3de ronde : Texas\nIn deze wedstrijdvorm slaan beide spelers af en voor de volgende slag wordt de beste bal gekozen waarna beide spelers van af die plek hun volgende slag doen. Dit voor iedere volgende slag totdat de bal in de hole is beland. \nDe scorekaart moet worden afgetekend door beide teams.\nProgramma:\n•	09.15 uur Inloop met koffie+ wat lekkers;\n•	09.45 uur Welkomstwoord+ informatie voorzitter;\n•	10.00 uur Ronde 1 Fourball;\n•	11.30 uur Winterse Lunch met oa.snert;\n•	12.30 uur Ronde 2 Greensome;\n•	14.15 uur Snack.\n•	14.45 uur Ronde 3\n•	16.15 uur Prijsuitreiking\nBaanlayout\n  \nAfstanden\n1.	Leeuwarden    100 m\n2.	Sneek         95 mtr\n3.	IJlst         120 mtr\n4.	Sloten        81 mtr\n5.	Stavoren      45+55 mtr (72 mtr)\n6.	Hindeloopen   80 mtr\n7.	Workum        35 mtr\n8.	Bolsward      55 mtr\n9.	Harlingen     130 mtr\n10.	Franeker      20 mtr\n11.	Dokkum        101 mtr \nDeelname kosten zijn € 35 euro per persoon. De deelname kosten zijn inclusief Koffie met wat lekkers bij ontvangst en de lunch. \nVoor nadere informatie kunt u terecht bij de secretaris. via secretaris@ppgz.nl
URL:https://www.ppbn.nl/aankomende-evenementen/11-steden-cross-country-toernooi-2025/
LOCATION:Pitch & Putt Leeuwarden\, Noarder Stienplaat 3\, Leeuwarden\, 8939 DA\, Nederland
CATEGORIES:Baaninitiatieven
ORGANIZER;CN="PPGZ":MAILTO:info@ppgz.nl
GEO:53.1837291;5.8541253
X-APPLE-STRUCTURED-LOCATION;VALUE=URI;X-ADDRESS=Pitch & Putt Leeuwarden Noarder Stienplaat 3 Leeuwarden 8939 DA Nederland;X-APPLE-RADIUS=500;X-TITLE=Noarder Stienplaat 3:geo:5.8541253,53.1837291
END:VEVENT
BEGIN:VEVENT
DTSTART;TZID=Europe/Amsterdam:20251016T093000
DTEND;TZID=Europe/Amsterdam:20251016T150000
DTSTAMP:20260426T044949
CREATED:20250328T200056Z
LAST-MODIFIED:20250328T200056Z
UID:10000406-1760607000-1760626800@www.ppbn.nl
SUMMARY:Seniorencircuit Bussloo
DESCRIPTION:Beleef een leuke en gezellige dag Pitch en Putt!	 \nProgramma\n09:30	Ontvangst koffie/thee plus iets lekkers\n10:00	Texas Scramble in koppels ( door loting bepaald)\n12:00	Heerlijke lunch\n13:00	18 holes Bruto/Netto\n15:00	Prijsuitrijking \nJe hoeft niet het hele circuit mee te spelen\, opgeven per dag is ook mogelijk\nOpgeven kan via Seniorencircuit@gmail.com\nOf via een whatsapp-berichtje op 06-23735107 ( Mischa Effern)\nKosten bedragen €27\,50 per dag + €1\,00 voor de prijzenpot.
URL:https://www.ppbn.nl/aankomende-evenementen/seniorencircuit-bussloo/
LOCATION:Pitch & Putt Bussloo\, Withagenweg 17\, Wilp\, 7384 SB\, Nederland
CATEGORIES:Baaninitiatieven
ORGANIZER;CN="Steven/Mischa":MAILTO:seniorencircuit@gmail.com
GEO:52.2027359;6.0902821
X-APPLE-STRUCTURED-LOCATION;VALUE=URI;X-ADDRESS=Pitch & Putt Bussloo Withagenweg 17 Wilp 7384 SB Nederland;X-APPLE-RADIUS=500;X-TITLE=Withagenweg 17:geo:6.0902821,52.2027359
END:VEVENT
END:VCALENDAR