BEGIN:VCALENDAR
VERSION:2.0
PRODID:-//Pitch en Putt Bond Nederland - PPBN - ECPv6.15.20//NONSGML v1.0//EN
CALSCALE:GREGORIAN
METHOD:PUBLISH
X-WR-CALNAME:Pitch en Putt Bond Nederland - PPBN
X-ORIGINAL-URL:https://www.ppbn.nl
X-WR-CALDESC:Evenementen voor Pitch en Putt Bond Nederland - PPBN
REFRESH-INTERVAL;VALUE=DURATION:PT1H
X-Robots-Tag:noindex
X-PUBLISHED-TTL:PT1H
BEGIN:VTIMEZONE
TZID:Europe/Amsterdam
BEGIN:DAYLIGHT
TZOFFSETFROM:+0100
TZOFFSETTO:+0200
TZNAME:CEST
DTSTART:20250330T010000
END:DAYLIGHT
BEGIN:STANDARD
TZOFFSETFROM:+0200
TZOFFSETTO:+0100
TZNAME:CET
DTSTART:20251026T010000
END:STANDARD
BEGIN:DAYLIGHT
TZOFFSETFROM:+0100
TZOFFSETTO:+0200
TZNAME:CEST
DTSTART:20260329T010000
END:DAYLIGHT
BEGIN:STANDARD
TZOFFSETFROM:+0200
TZOFFSETTO:+0100
TZNAME:CET
DTSTART:20261025T010000
END:STANDARD
BEGIN:DAYLIGHT
TZOFFSETFROM:+0100
TZOFFSETTO:+0200
TZNAME:CEST
DTSTART:20270328T010000
END:DAYLIGHT
BEGIN:STANDARD
TZOFFSETFROM:+0200
TZOFFSETTO:+0100
TZNAME:CET
DTSTART:20271031T010000
END:STANDARD
END:VTIMEZONE
BEGIN:VEVENT
DTSTART;TZID=Europe/Amsterdam:20260307T083000
DTEND;TZID=Europe/Amsterdam:20260307T170000
DTSTAMP:20260425T200158
CREATED:20251030T183704Z
LAST-MODIFIED:20251030T183816Z
UID:10000413-1772872200-1772902800@www.ppbn.nl
SUMMARY:Oost-Nederlands(open) Kampioenschap Pitch & Putt Lemele
DESCRIPTION:Oost-Nederlands (Open) Kampioenschap\nZaterdag 7 maart 2026 – Pitch & Putt Lemele \nOp zaterdag 7 maart 2026 organiseert Pitch & Putt Lemele het Oost-Nederlands Kampioenschap.Dit toernooi is open voor zowel golfers als Pitch & Putt-spelers en wordt gespeeld volgens de PPBN-regels.Pitch & Putt wordt gespeeld met maximaal twee clubs en een putter. \nProgramma\n\n\n08:30 – 09:15 Inschrijving \n\n\n09:15 – 09:30 Briefing \n\n\n09:30 – 12:45 Start van de 1e en 2e ronde (worden achter elkaar gespeeld in dezelfde flight) \n\n\n12:45 – 13:45 Heerlijke winterlunch \n\n\n13:45 – 15:45 Start van de 3e ronde (op basis van de ranking na de 1e en 2e ronde) \n\n\n16:00 Prijsuitreiking en borrel \n\n\nInformatie\n\n\nKosten: €29\,50 per persoon (inclusief drie rondes) \n\n\nMaximum aantal deelnemers: 72 \n\n\nInschrijving geopend per direct \n\n\nInschrijven via: onklemele@gmail.com \n\n\nBij inschrijving graag vermelden:Naam / HCP / e-mailadres / categorie (senior – dames – heren) \nLet op: inschrijving sluit op maandag 3 maart 2026 om 23:59 uur. \nLocatie:Pitch & Putt LemeleLage Esweg 58141 RA LemeleTel. 0572 – 331 413
URL:https://www.ppbn.nl/aankomende-evenementen/oost-nederlandsopen-kampioenschap/
LOCATION:Pitch & Putt Lemele\, Lage Esweg 5\, Lemele\, 8148 RA\, Nederland
ORGANIZER;CN="PPBN":MAILTO:bondsbureau@ppbn.nl
GEO:52.4532898;6.4112728
X-APPLE-STRUCTURED-LOCATION;VALUE=URI;X-ADDRESS=Pitch & Putt Lemele Lage Esweg 5 Lemele 8148 RA Nederland;X-APPLE-RADIUS=500;X-TITLE=Lage Esweg 5:geo:6.4112728,52.4532898
END:VEVENT
BEGIN:VEVENT
DTSTART;TZID=Europe/Amsterdam:20260315T090000
DTEND;TZID=Europe/Amsterdam:20260315T170000
DTSTAMP:20260425T200158
CREATED:20260113T210645Z
LAST-MODIFIED:20260313T121837Z
UID:10000434-1773565200-1773594000@www.ppbn.nl
SUMMARY:NK Teams 2026 Diepenheim
DESCRIPTION:
URL:https://www.ppbn.nl/aankomende-evenementen/nk-teams/
LOCATION:Pitch & Putt Diepenheim\, Hengevelderweg 3\, Diepenheim\, 7478 PE\, Nederland
CATEGORIES:Bondstoernooien
ATTACH;FMTTYPE=image/png:https://www.ppbn.nl/wp-content/uploads/2026/01/nk-teams.png
ORGANIZER;CN="PPBN":MAILTO:bondsbureau@ppbn.nl
GEO:52.1965091;6.5920072
X-APPLE-STRUCTURED-LOCATION;VALUE=URI;X-ADDRESS=Pitch & Putt Diepenheim Hengevelderweg 3 Diepenheim 7478 PE Nederland;X-APPLE-RADIUS=500;X-TITLE=Hengevelderweg 3:geo:6.5920072,52.1965091
END:VEVENT
BEGIN:VEVENT
DTSTART;TZID=Europe/Amsterdam:20260326T093000
DTEND;TZID=Europe/Amsterdam:20260326T150000
DTSTAMP:20260425T200158
CREATED:20251222T213132Z
LAST-MODIFIED:20251222T214247Z
UID:10000425-1774517400-1774537200@www.ppbn.nl
SUMMARY:Seniorencircuit 2026
DESCRIPTION:
URL:https://www.ppbn.nl/aankomende-evenementen/seniorencircuit-2026/2026-03-26/
ATTACH;FMTTYPE=image/png:https://www.ppbn.nl/wp-content/uploads/2025/12/SeriorenCircuit.png
ORGANIZER;CN="Steven/Mischa":MAILTO:seniorencircuit@gmail.com
END:VEVENT
BEGIN:VEVENT
DTSTART;TZID=Europe/Amsterdam:20260328T090000
DTEND;TZID=Europe/Amsterdam:20260328T170000
DTSTAMP:20260425T200158
CREATED:20260113T210848Z
LAST-MODIFIED:20260119T155732Z
UID:10000435-1774688400-1774717200@www.ppbn.nl
SUMMARY:NRT1 Koudum 2026
DESCRIPTION:
URL:https://www.ppbn.nl/aankomende-evenementen/nrt-1/
LOCATION:Pitch & Putt Koudum\, Nieuweweg 42\, Koudum\, 8723 EB\, Nederland
CATEGORIES:Bondstoernooien
ATTACH;FMTTYPE=image/png:https://www.ppbn.nl/wp-content/uploads/2026/01/A955ED32-CE38-4B7A-B34B-FEC9B9F1C523.png
ORGANIZER;CN="PPBN":MAILTO:bondsbureau@ppbn.nl
GEO:52.9195475;5.4612189
X-APPLE-STRUCTURED-LOCATION;VALUE=URI;X-ADDRESS=Pitch & Putt Koudum Nieuweweg 42 Koudum 8723 EB Nederland;X-APPLE-RADIUS=500;X-TITLE=Nieuweweg 42:geo:5.4612189,52.9195475
END:VEVENT
END:VCALENDAR