BEGIN:VCALENDAR
VERSION:2.0
PRODID:-//Pitch en Putt Bond Nederland - PPBN - ECPv6.15.20//NONSGML v1.0//EN
CALSCALE:GREGORIAN
METHOD:PUBLISH
X-ORIGINAL-URL:https://www.ppbn.nl
X-WR-CALDESC:Evenementen voor Pitch en Putt Bond Nederland - PPBN
REFRESH-INTERVAL;VALUE=DURATION:PT1H
X-Robots-Tag:noindex
X-PUBLISHED-TTL:PT1H
BEGIN:VTIMEZONE
TZID:Europe/Amsterdam
BEGIN:DAYLIGHT
TZOFFSETFROM:+0100
TZOFFSETTO:+0200
TZNAME:CEST
DTSTART:20210328T010000
END:DAYLIGHT
BEGIN:STANDARD
TZOFFSETFROM:+0200
TZOFFSETTO:+0100
TZNAME:CET
DTSTART:20211031T010000
END:STANDARD
BEGIN:DAYLIGHT
TZOFFSETFROM:+0100
TZOFFSETTO:+0200
TZNAME:CEST
DTSTART:20220327T010000
END:DAYLIGHT
BEGIN:STANDARD
TZOFFSETFROM:+0200
TZOFFSETTO:+0100
TZNAME:CET
DTSTART:20221030T010000
END:STANDARD
BEGIN:DAYLIGHT
TZOFFSETFROM:+0100
TZOFFSETTO:+0200
TZNAME:CEST
DTSTART:20230326T010000
END:DAYLIGHT
BEGIN:STANDARD
TZOFFSETFROM:+0200
TZOFFSETTO:+0100
TZNAME:CET
DTSTART:20231029T010000
END:STANDARD
END:VTIMEZONE
BEGIN:VEVENT
DTSTART;VALUE=DATE:20220422
DTEND;VALUE=DATE:20220425
DTSTAMP:20260425T053639
CREATED:20211115T211318Z
LAST-MODIFIED:20220322T161342Z
UID:10000204-1650585600-1650844799@www.ppbn.nl
SUMMARY:Catalaans Open 2022 (Lloret)
DESCRIPTION:Inschrijfperiode\n21-01-2022 t/m 13-02-2022 23:59 uur\n\n\nInschrijflink\nhttps://www.ppbn.nl/inschrijving-catalaans-open-2022-geopend/\n\n\nOverige informatie Toernooi organisatie\nXIV Catalan OpenPP Lloret 2022 english\n\n\n\n\nHuidige inschrijflijst \n[xyz-ips snippet=”Inschrijvingen-Catalaans-Open-2022″]
URL:https://www.ppbn.nl/aankomende-evenementen/catalaans-open-2022-lloret/
LOCATION:Pitch&Putt Llorret\, Papalús s/n\, Lloret de Mar\, Girona\, 17310\, Nederland
CATEGORIES:Fippa Toernooien
ATTACH;FMTTYPE=image/png:https://www.ppbn.nl/wp-content/uploads/2018/10/fippa_eppa.png
ORGANIZER;CN="FIPPA":MAILTO:alloret@pitch.cat
END:VEVENT
END:VCALENDAR