BEGIN:VCALENDAR
VERSION:2.0
PRODID:-//Pitch en Putt Bond Nederland - PPBN - ECPv6.15.20//NONSGML v1.0//EN
CALSCALE:GREGORIAN
METHOD:PUBLISH
X-ORIGINAL-URL:https://www.ppbn.nl
X-WR-CALDESC:Evenementen voor Pitch en Putt Bond Nederland - PPBN
REFRESH-INTERVAL;VALUE=DURATION:PT1H
X-Robots-Tag:noindex
X-PUBLISHED-TTL:PT1H
BEGIN:VTIMEZONE
TZID:Europe/Amsterdam
BEGIN:DAYLIGHT
TZOFFSETFROM:+0100
TZOFFSETTO:+0200
TZNAME:CEST
DTSTART:20210328T010000
END:DAYLIGHT
BEGIN:STANDARD
TZOFFSETFROM:+0200
TZOFFSETTO:+0100
TZNAME:CET
DTSTART:20211031T010000
END:STANDARD
BEGIN:DAYLIGHT
TZOFFSETFROM:+0100
TZOFFSETTO:+0200
TZNAME:CEST
DTSTART:20220327T010000
END:DAYLIGHT
BEGIN:STANDARD
TZOFFSETFROM:+0200
TZOFFSETTO:+0100
TZNAME:CET
DTSTART:20221030T010000
END:STANDARD
BEGIN:DAYLIGHT
TZOFFSETFROM:+0100
TZOFFSETTO:+0200
TZNAME:CEST
DTSTART:20230326T010000
END:DAYLIGHT
BEGIN:STANDARD
TZOFFSETFROM:+0200
TZOFFSETTO:+0100
TZNAME:CET
DTSTART:20231029T010000
END:STANDARD
BEGIN:DAYLIGHT
TZOFFSETFROM:+0100
TZOFFSETTO:+0200
TZNAME:CEST
DTSTART:20240331T010000
END:DAYLIGHT
BEGIN:STANDARD
TZOFFSETFROM:+0200
TZOFFSETTO:+0100
TZNAME:CET
DTSTART:20241027T010000
END:STANDARD
BEGIN:DAYLIGHT
TZOFFSETFROM:+0100
TZOFFSETTO:+0200
TZNAME:CEST
DTSTART:20250330T010000
END:DAYLIGHT
BEGIN:STANDARD
TZOFFSETFROM:+0200
TZOFFSETTO:+0100
TZNAME:CET
DTSTART:20251026T010000
END:STANDARD
BEGIN:DAYLIGHT
TZOFFSETFROM:+0100
TZOFFSETTO:+0200
TZNAME:CEST
DTSTART:20260329T010000
END:DAYLIGHT
BEGIN:STANDARD
TZOFFSETFROM:+0200
TZOFFSETTO:+0100
TZNAME:CET
DTSTART:20261025T010000
END:STANDARD
END:VTIMEZONE
BEGIN:VEVENT
DTSTART;VALUE=DATE:20250509
DTEND;VALUE=DATE:20250512
DTSTAMP:20260425T051840
CREATED:20241214T164757Z
LAST-MODIFIED:20241214T164757Z
UID:10000381-1746748800-1747007999@www.ppbn.nl
SUMMARY:Gelders Open 2025
DESCRIPTION:
URL:https://www.ppbn.nl/aankomende-evenementen/gelders-open-2025/
LOCATION:Pitch & Putt Strand Horst\, Palmbosweg 4\, Ermelo\, 3853 LB\, Nederland
CATEGORIES:Fippa Toernooien
ATTACH;FMTTYPE=image/webp:https://www.ppbn.nl/wp-content/uploads/2024/12/cropped-Gelders-Open-2025.png.webp
ORGANIZER;CN="Ed Janssen":MAILTO:edjejanssen@gmail.com
GEO:52.2927489;5.5491352
X-APPLE-STRUCTURED-LOCATION;VALUE=URI;X-ADDRESS=Pitch & Putt Strand Horst Palmbosweg 4 Ermelo 3853 LB Nederland;X-APPLE-RADIUS=500;X-TITLE=Palmbosweg 4:geo:5.5491352,52.2927489
END:VEVENT
BEGIN:VEVENT
DTSTART;VALUE=DATE:20240419
DTEND;VALUE=DATE:20240422
DTSTAMP:20260425T051840
CREATED:20240208T161027Z
LAST-MODIFIED:20240208T161027Z
UID:10000370-1713484800-1713743999@www.ppbn.nl
SUMMARY:Internationaal Gelders Open 2024
DESCRIPTION:
URL:https://www.ppbn.nl/aankomende-evenementen/internationaal-gelders-open-2024/
LOCATION:Pitch & Putt Strand Horst\, Palmbosweg 4\, Ermelo\, 3853 LB\, Nederland
CATEGORIES:Fippa Toernooien
ATTACH;FMTTYPE=image/webp:https://www.ppbn.nl/wp-content/uploads/2024/02/Gelders-Open-2024.jpg.webp
ORGANIZER;CN="Ed Janssen":MAILTO:edjejanssen@gmail.com
GEO:52.2927489;5.5491352
X-APPLE-STRUCTURED-LOCATION;VALUE=URI;X-ADDRESS=Pitch & Putt Strand Horst Palmbosweg 4 Ermelo 3853 LB Nederland;X-APPLE-RADIUS=500;X-TITLE=Palmbosweg 4:geo:5.5491352,52.2927489
END:VEVENT
BEGIN:VEVENT
DTSTART;VALUE=DATE:20230421
DTEND;VALUE=DATE:20230424
DTSTAMP:20260425T051840
CREATED:20221010T095600Z
LAST-MODIFIED:20221108T115618Z
UID:10000218-1682035200-1682294399@www.ppbn.nl
SUMMARY:Internationaal Gelders Open 2023
DESCRIPTION:
URL:https://www.ppbn.nl/aankomende-evenementen/internatonaal-gelders-open-2023/
LOCATION:Pitch & Putt Strand Horst\, Palmbosweg 4\, Ermelo\, 3853 LB\, Nederland
CATEGORIES:Baaninitiatieven
ATTACH;FMTTYPE=image/png:https://www.ppbn.nl/wp-content/uploads/2022/10/GO2023_Banner.png
ORGANIZER;CN="Ed Janssen":MAILTO:edjejanssen@gmail.com
GEO:52.2927489;5.5491352
X-APPLE-STRUCTURED-LOCATION;VALUE=URI;X-ADDRESS=Pitch & Putt Strand Horst Palmbosweg 4 Ermelo 3853 LB Nederland;X-APPLE-RADIUS=500;X-TITLE=Palmbosweg 4:geo:5.5491352,52.2927489
END:VEVENT
BEGIN:VEVENT
DTSTART;VALUE=DATE:20220408
DTEND;VALUE=DATE:20220411
DTSTAMP:20260425T051840
CREATED:20201123T213526Z
LAST-MODIFIED:20210307T213514Z
UID:10000303-1649376000-1649635199@www.ppbn.nl
SUMMARY:Internationaal Gelders Open
DESCRIPTION:
URL:https://www.ppbn.nl/aankomende-evenementen/internationaal-gelders-open/
LOCATION:Pitch & Putt Doetinchem\, Broekhuizerstraat 1a\, Wehl\, 7031 GZ\, Nederland
CATEGORIES:Baaninitiatieven
ATTACH;FMTTYPE=image/png:https://www.ppbn.nl/wp-content/uploads/2019/10/GO2020_2.png
ORGANIZER;CN="Ed Janssen":MAILTO:edjejanssen@gmail.com
GEO:51.9607699;6.1846581
X-APPLE-STRUCTURED-LOCATION;VALUE=URI;X-ADDRESS=Pitch & Putt Doetinchem Broekhuizerstraat 1a Wehl 7031 GZ Nederland;X-APPLE-RADIUS=500;X-TITLE=Broekhuizerstraat 1a:geo:6.1846581,51.9607699
END:VEVENT
END:VCALENDAR