BEGIN:VCALENDAR
VERSION:2.0
PRODID:-//Pitch en Putt Bond Nederland - PPBN - ECPv6.15.20//NONSGML v1.0//EN
CALSCALE:GREGORIAN
METHOD:PUBLISH
X-ORIGINAL-URL:https://www.ppbn.nl
X-WR-CALDESC:Evenementen voor Pitch en Putt Bond Nederland - PPBN
REFRESH-INTERVAL;VALUE=DURATION:PT1H
X-Robots-Tag:noindex
X-PUBLISHED-TTL:PT1H
BEGIN:VTIMEZONE
TZID:Europe/Amsterdam
BEGIN:DAYLIGHT
TZOFFSETFROM:+0100
TZOFFSETTO:+0200
TZNAME:CEST
DTSTART:20210328T010000
END:DAYLIGHT
BEGIN:STANDARD
TZOFFSETFROM:+0200
TZOFFSETTO:+0100
TZNAME:CET
DTSTART:20211031T010000
END:STANDARD
BEGIN:DAYLIGHT
TZOFFSETFROM:+0100
TZOFFSETTO:+0200
TZNAME:CEST
DTSTART:20220327T010000
END:DAYLIGHT
BEGIN:STANDARD
TZOFFSETFROM:+0200
TZOFFSETTO:+0100
TZNAME:CET
DTSTART:20221030T010000
END:STANDARD
BEGIN:DAYLIGHT
TZOFFSETFROM:+0100
TZOFFSETTO:+0200
TZNAME:CEST
DTSTART:20230326T010000
END:DAYLIGHT
BEGIN:STANDARD
TZOFFSETFROM:+0200
TZOFFSETTO:+0100
TZNAME:CET
DTSTART:20231029T010000
END:STANDARD
END:VTIMEZONE
BEGIN:VEVENT
DTSTART;TZID=Europe/Amsterdam:20220913T080000
DTEND;TZID=Europe/Amsterdam:20220913T170000
DTSTAMP:20260426T045040
CREATED:20220913T064924Z
LAST-MODIFIED:20220913T064955Z
UID:10000216-1663056000-1663088400@www.ppbn.nl
SUMMARY:Mosseltoernooi
DESCRIPTION:
URL:https://www.ppbn.nl/aankomende-evenementen/mosseltoernooi-5/
LOCATION:Pitch & Putt Groningen\, Bieskemar 10\, Groningen\, 9735 AE\, Nederland
CATEGORIES:Baaninitiatieven
ATTACH;FMTTYPE=image/jpeg:https://www.ppbn.nl/wp-content/uploads/2022/09/Green-Yellow-Childrens-Illustrative-Quote-Fathers-Day-Photo-Poster56-scaled.jpg
ORGANIZER;CN="Pitch & Putt Groningen":MAILTO:groningen@pitch-putt.nl
GEO:53.2409428;6.5965728
X-APPLE-STRUCTURED-LOCATION;VALUE=URI;X-ADDRESS=Pitch & Putt Groningen Bieskemar 10 Groningen 9735 AE Nederland;X-APPLE-RADIUS=500;X-TITLE=Bieskemar 10:geo:6.5965728,53.2409428
END:VEVENT
END:VCALENDAR