BEGIN:VCALENDAR
VERSION:2.0
PRODID:-//Pitch en Putt Bond Nederland - PPBN - ECPv6.15.20//NONSGML v1.0//EN
CALSCALE:GREGORIAN
METHOD:PUBLISH
X-WR-CALNAME:Pitch en Putt Bond Nederland - PPBN
X-ORIGINAL-URL:https://www.ppbn.nl
X-WR-CALDESC:Evenementen voor Pitch en Putt Bond Nederland - PPBN
REFRESH-INTERVAL;VALUE=DURATION:PT1H
X-Robots-Tag:noindex
X-PUBLISHED-TTL:PT1H
BEGIN:VTIMEZONE
TZID:Europe/Amsterdam
BEGIN:DAYLIGHT
TZOFFSETFROM:+0100
TZOFFSETTO:+0200
TZNAME:CEST
DTSTART:20210328T010000
END:DAYLIGHT
BEGIN:STANDARD
TZOFFSETFROM:+0200
TZOFFSETTO:+0100
TZNAME:CET
DTSTART:20211031T010000
END:STANDARD
BEGIN:DAYLIGHT
TZOFFSETFROM:+0100
TZOFFSETTO:+0200
TZNAME:CEST
DTSTART:20220327T010000
END:DAYLIGHT
BEGIN:STANDARD
TZOFFSETFROM:+0200
TZOFFSETTO:+0100
TZNAME:CET
DTSTART:20221030T010000
END:STANDARD
BEGIN:DAYLIGHT
TZOFFSETFROM:+0100
TZOFFSETTO:+0200
TZNAME:CEST
DTSTART:20230326T010000
END:DAYLIGHT
BEGIN:STANDARD
TZOFFSETFROM:+0200
TZOFFSETTO:+0100
TZNAME:CET
DTSTART:20231029T010000
END:STANDARD
END:VTIMEZONE
BEGIN:VEVENT
DTSTART;VALUE=DATE:20220312
DTEND;VALUE=DATE:20220313
DTSTAMP:20260426T050854
CREATED:20220207T124557Z
LAST-MODIFIED:20220207T124557Z
UID:10000317-1647043200-1647129599@www.ppbn.nl
SUMMARY:Lentekriebels Koppeltoernooi
DESCRIPTION:Op zaterdag 12 maart 2022 kan je bij Pitch & Putt Koudum meedoen aan het Lentekriebels Koppeltoernooi! Er is een bruto en een netto klassement\, dus iedereen kan winnen. Iedereen is welkom\, dus neem gerust je vader\, je nicht of je oma mee. Met zijn tweeën strijden jullie om de prijzen! Heb je geen partner? Geen probleem! Geef je alsnog op\, dan koppelen wij je aan iemand. \nIn het kort: \n\nDe inloop is 10:00 en we beginnen om 10:30 met de eerste ronde: Four Ball.\nInleg is €19\,50\, hiervoor krijg je ontvangst met koffie en wat lekkers\, en tussen de middag een heerlijke lunch.\nDe eerste ronde spelen we Four Ball\, de tweede ronde Greensome (zie onder het formulier een uitleg over deze spelvormen).\n\nInschrijven kan via https://wtc.koudum.nl/toernooien/lentekriebels-koppeltoernooi/
URL:https://www.ppbn.nl/aankomende-evenementen/lentekriebels-koppeltoernooi/
LOCATION:Pitch & Putt Koudum\, Nieuweweg 42\, Koudum\, 8723 EB\, Nederland
CATEGORIES:Baaninitiatieven
ATTACH;FMTTYPE=image/jpeg:https://www.ppbn.nl/wp-content/uploads/2022/02/lentekriebels-LR.jpg
ORGANIZER;CN="Pitch & Putt Koudum":MAILTO:koudum@pitch-putt.nl
GEO:52.9195475;5.4612189
X-APPLE-STRUCTURED-LOCATION;VALUE=URI;X-ADDRESS=Pitch & Putt Koudum Nieuweweg 42 Koudum 8723 EB Nederland;X-APPLE-RADIUS=500;X-TITLE=Nieuweweg 42:geo:5.4612189,52.9195475
END:VEVENT
END:VCALENDAR