BEGIN:VCALENDAR
VERSION:2.0
PRODID:-//Pitch en Putt Bond Nederland - PPBN - ECPv6.15.20//NONSGML v1.0//EN
CALSCALE:GREGORIAN
METHOD:PUBLISH
X-WR-CALNAME:Pitch en Putt Bond Nederland - PPBN
X-ORIGINAL-URL:https://www.ppbn.nl
X-WR-CALDESC:Evenementen voor Pitch en Putt Bond Nederland - PPBN
REFRESH-INTERVAL;VALUE=DURATION:PT1H
X-Robots-Tag:noindex
X-PUBLISHED-TTL:PT1H
BEGIN:VTIMEZONE
TZID:Europe/Amsterdam
BEGIN:DAYLIGHT
TZOFFSETFROM:+0100
TZOFFSETTO:+0200
TZNAME:CEST
DTSTART:20200329T010000
END:DAYLIGHT
BEGIN:STANDARD
TZOFFSETFROM:+0200
TZOFFSETTO:+0100
TZNAME:CET
DTSTART:20201025T010000
END:STANDARD
BEGIN:DAYLIGHT
TZOFFSETFROM:+0100
TZOFFSETTO:+0200
TZNAME:CEST
DTSTART:20210328T010000
END:DAYLIGHT
BEGIN:STANDARD
TZOFFSETFROM:+0200
TZOFFSETTO:+0100
TZNAME:CET
DTSTART:20211031T010000
END:STANDARD
BEGIN:DAYLIGHT
TZOFFSETFROM:+0100
TZOFFSETTO:+0200
TZNAME:CEST
DTSTART:20220327T010000
END:DAYLIGHT
BEGIN:STANDARD
TZOFFSETFROM:+0200
TZOFFSETTO:+0100
TZNAME:CET
DTSTART:20221030T010000
END:STANDARD
BEGIN:DAYLIGHT
TZOFFSETFROM:+0100
TZOFFSETTO:+0200
TZNAME:CEST
DTSTART:20230326T010000
END:DAYLIGHT
BEGIN:STANDARD
TZOFFSETFROM:+0200
TZOFFSETTO:+0100
TZNAME:CET
DTSTART:20231029T010000
END:STANDARD
END:VTIMEZONE
BEGIN:VEVENT
DTSTART;VALUE=DATE:20220911
DTEND;VALUE=DATE:20220912
DTSTAMP:20260426T053113
CREATED:20220427T063110Z
LAST-MODIFIED:20220427T063110Z
UID:10000211-1662854400-1662940799@www.ppbn.nl
SUMMARY:Zwartemeer Open 2022
DESCRIPTION:
URL:https://www.ppbn.nl/aankomende-evenementen/zwartemeer-open-2022/
LOCATION:Sportlandgoed Zwartemeer\, Verlengde van Echtenskanaal Noordzijde 2\, Zwartemeer\, 7894 EA\, Nederland
CATEGORIES:Baaninitiatieven
ATTACH;FMTTYPE=image/jpeg:https://www.ppbn.nl/wp-content/uploads/2022/04/IMG-20220401-WA0006.jpg
ORGANIZER;CN="Sportlandgoed Zwartemeer":MAILTO:info@sportlandgoed.nl
END:VEVENT
BEGIN:VEVENT
DTSTART;VALUE=DATE:20210919
DTEND;VALUE=DATE:20210920
DTSTAMP:20260426T053113
CREATED:20210512T055119Z
LAST-MODIFIED:20210512T055119Z
UID:10000202-1632009600-1632095999@www.ppbn.nl
SUMMARY:Zwartemeer Open 2021
DESCRIPTION:
URL:https://www.ppbn.nl/aankomende-evenementen/zwartemeer-open-2021/
LOCATION:Sportlandgoed Zwartemeer\, Verlengde van Echtenskanaal Noordzijde 2\, Zwartemeer\, 7894 EA\, Nederland
CATEGORIES:Baaninitiatieven
ATTACH;FMTTYPE=image/jpeg:https://www.ppbn.nl/wp-content/uploads/2021/05/IMG-20210429-WA0004.jpg
ORGANIZER;CN="Sportlandgoed Zwartemeer":MAILTO:info@sportlandgoed.nl
END:VEVENT
END:VCALENDAR